BEGIN:VCALENDAR
VERSION:2.0
PRODID:-//Świdnicki Ośrodek Kultury - ECPv5.5.0.1//NONSGML v1.0//EN
CALSCALE:GREGORIAN
METHOD:PUBLISH
X-WR-CALNAME:Świdnicki Ośrodek Kultury
X-ORIGINAL-URL:https://sok.com.pl
X-WR-CALDESC:Wydarzenia na Świdnicki Ośrodek Kultury
BEGIN:VTIMEZONE
TZID:Europe/Warsaw
BEGIN:DAYLIGHT
TZOFFSETFROM:+0100
TZOFFSETTO:+0200
TZNAME:CEST
DTSTART:20200329T010000
END:DAYLIGHT
BEGIN:STANDARD
TZOFFSETFROM:+0200
TZOFFSETTO:+0100
TZNAME:CET
DTSTART:20201025T010000
END:STANDARD
END:VTIMEZONE
BEGIN:VEVENT
DTSTART;VALUE=DATE:20200109
DTEND;VALUE=DATE:20200115
DTSTAMP:20260422T144122
CREATED:20191227T141640Z
LAST-MODIFIED:20200113T073251Z
UID:23712-1578528000-1579046399@sok.com.pl
SUMMARY:XXVIII ŚWIDNICKI PRZEGLĄD ZESPOŁÓW KOLĘDNICZYCH [AKTUALIZACJA]
DESCRIPTION:Okres świąt Bożego Narodzenia jest w polskiej tradycji okresem szczególnym — warto chronić bogate dziedzictwo z nim związane\, ocalić od zapomnienia coraz rzadziej praktykowane obyczaje\, kolędy i zabawy.  Chociaż kolędowanie po domach na wsiach i w miasteczkach odchodzi już w zapomnienie\, to odżywa na scenie w czasie Przeglądu. Występujący w Świdnicy aktorzy wszystkich pokoleń\, opiekunowie i reżyserowie nie pozwalają zginąć niepowtarzalnym\, magicznym polskim obrzędom świątecznym. \n9.01.2020 (czwartek) \ngodz. 9.30 – 12.00 \nPrzedszkole Miejskie nr 6 w Świdnicy \nNiepubliczne Przedszkole Językowe „Calineczka” w Świdnicy \nNiepubliczne Przedszkole Artystyczne „Bajkowy Domek” w Świdnicy \nSzkoła Podstawowa nr 2 w Świdnicy \nPrzedszkole Niepubliczne „Promyk” w Świdnicy \n10.01.2020 (piątek) \ngodz. 9.30 – 12.00 \nSzkoła Podstawowa w Witoszowie Dolnym \nPrzedszkole Publiczne Zgromadzenia Sióstr Prezentek w Świdnicy \nPrzedszkole Miejskie nr 4 w Świdnicy \nPrzedszkole Miejskie nr 1 w Świdnicy \nZespół Szkół Specjalnych w Świdnicy \ngodz. 16.30 – 18.30 \nPrzedszkole Niepubliczne „Wesoła Piątka” w Świdnicy \nFundacja UT UNUM SINT w Świdnicy \nZespół Śpiewaczy ”Ale Babki i Kapela” GOKSiR Świdnica \nMłodzieżowy Dom Kultury w Świdnicy \nUKS Acro Club Świdnica \n13.01.2020 (poniedziałek) \ngodz. 9.30 – 12.00 \nFundacja „Naszej Szkole” Społeczne Przedszkole „Akademia Przedszkolaka” w Świdnicy \nPrzedszkole Miejskie w Mieroszowie \nPSONI Koło w Świdnicy i Środowiskowy Dom Samopomocy w Świdnicy \nDolnośląski Młodzieżowy Ośrodek Wychowawczy w Wałbrzychu [zespół nie będzie mógł wystąpić z przyczyn niezależnych] \nDzienny Dom Senior Wigor w Świdnicy \ngodz. 16.30 – 18.30 \nMiejskie Przedszkole Integracyjne nr 16 „Słoneczko” w Świdnicy \nSchola z parafii Miłosierdzia Bożego w Świdnicy [zespół wystąpi w miejsce Szkoły Podstawowej nr 1 w Świdnicy] \nŚwietlica Wiejska w Burkatowie GOKSiR Świdnica \nBajkowa Świta ze Świdnicy \n14.01.2020 (wtorek) \ngodz. 9.30 – 11.30 \nSzkoła Podstawowa w Pszennie \nPrzedszkole Miejskie nr 15 w Świdnicy \nNiepubliczne Przedszkole Językowe „Abracadabra” w Świdnicy \nNiepubliczna Szkoła Podstawowa ŚSO „Bliżej Dziecka” w Świdnicy
URL:https://sok.com.pl/wydarzenie/xxviii-swidnicki-przeglad-zespolow-koledniczych/
LOCATION:Świdnicki Ośrodek Kultury\, Rynek 43\, Świdnica\, Dolnośląskie\, 58-100\, Polska
CATEGORIES:Teatr
ATTACH;FMTTYPE=image/jpeg:https://sok.com.pl/wp-content/uploads/2019/12/B2_Przegląd_Kolędniczych_2020-2.jpg
ORGANIZER;CN="%C5%9Awidnicki%20O%C5%9Brodek%20Kultury":MAILTO:sok@sok.com.pl
END:VEVENT
END:VCALENDAR