BEGIN:VCALENDAR
VERSION:2.0
PRODID:-//Świdnicki Ośrodek Kultury - ECPv5.5.0.1//NONSGML v1.0//EN
CALSCALE:GREGORIAN
METHOD:PUBLISH
X-WR-CALNAME:Świdnicki Ośrodek Kultury
X-ORIGINAL-URL:https://sok.com.pl
X-WR-CALDESC:Wydarzenia na Świdnicki Ośrodek Kultury
BEGIN:VTIMEZONE
TZID:Europe/Warsaw
BEGIN:DAYLIGHT
TZOFFSETFROM:+0100
TZOFFSETTO:+0200
TZNAME:CEST
DTSTART:20210328T010000
END:DAYLIGHT
BEGIN:STANDARD
TZOFFSETFROM:+0200
TZOFFSETTO:+0100
TZNAME:CET
DTSTART:20211031T010000
END:STANDARD
END:VTIMEZONE
BEGIN:VEVENT
DTSTART;VALUE=DATE:20210704
DTEND;VALUE=DATE:20210705
DTSTAMP:20260420T014227
CREATED:20210630T074157Z
LAST-MODIFIED:20210630T082055Z
UID:29259-1625356800-1625443199@sok.com.pl
SUMMARY:XIX KONKURS SYGNALISTÓW MYŚLIWSKICH SUDECKIEJ KRAINY ŁOWIECKIEJ „O KRYSZTAŁOWY RÓG”
DESCRIPTION:Zarząd Okręgowy Polskiego Związku Łowieckiego w Wałbrzychu\, Urząd Miasta Świdnica\, Nadleśnictwo Świdnica i Świdnicki Ośrodek Kultury zapraszają na XIX Konkurs Sygnalistów Myśliwskich „O Kryształowy Róg”\, który rozpocznie się o godz. 9.00 w niedzielę 4 lipca 2021 w sali teatralnej w Świdnickiego Ośrodka Kultury (Rynek 43). \nGłówną atrakcją dla publiczności będzie plenerowy występ laureatów i zespołów uczestniczących w konkursie oraz koncert Reprezentacyjnego Zespołu Muzyki łowieckiej i Leśnej Okręgu Wałbrzyskiego PZŁ „Odgłosy Kniei” na świdnickim Rynku o godz. 13.00. \n  \nPROGRAM XIX KONKURSU SYGNALISTÓW MYSLIWSKICH\n„O KRYSZTAŁOWY RÓG” W ŚWIDNICY \n  \n4 lipca 2021 (niedziela) \n  \ngodz. 9.00 – otwarcie XIX Konkursu Sygnalistów Myśliwskich „O Kryształowy Róg” – Świdnicki Ośrodek Kultury (sala teatralna\, Rynek 43) \ngodz. 9.30 – przesłuchania konkursowe \ngodz. 13.00 – ogłoszenie wyników konkursu\, rozdanie nagród\, występy laureatów \nWystępy zespołów uczestniczących w konkursie \nKoncert Reprezentacyjnego Zespołu Muzyki łowieckiej i Leśnej Okręgu Wałbrzyskiego PZŁ „Odgłosy Kniei”
URL:https://sok.com.pl/wydarzenie/xix-konkurs-sygnalistow-mysliwskich-sudeckiej-krainy-lowieckiej-o-krysztalowy-rog/
LOCATION:Rynek\, Rynek\, Świdnica\, Dolnośląskie\, 58-100
CATEGORIES:Koncerty
ATTACH;FMTTYPE=image/jpeg:https://sok.com.pl/wp-content/uploads/2021/06/swidnica_2021.jpg
END:VEVENT
END:VCALENDAR