BEGIN:VCALENDAR
VERSION:2.0
PRODID:-//Świdnicki Ośrodek Kultury - ECPv5.5.0.1//NONSGML v1.0//EN
CALSCALE:GREGORIAN
METHOD:PUBLISH
X-WR-CALNAME:Świdnicki Ośrodek Kultury
X-ORIGINAL-URL:https://sok.com.pl
X-WR-CALDESC:Wydarzenia na Świdnicki Ośrodek Kultury
BEGIN:VTIMEZONE
TZID:Europe/Warsaw
BEGIN:DAYLIGHT
TZOFFSETFROM:+0100
TZOFFSETTO:+0200
TZNAME:CEST
DTSTART:20250330T010000
END:DAYLIGHT
BEGIN:STANDARD
TZOFFSETFROM:+0200
TZOFFSETTO:+0100
TZNAME:CET
DTSTART:20251026T010000
END:STANDARD
END:VTIMEZONE
BEGIN:VEVENT
DTSTART;VALUE=DATE:20250429
DTEND;VALUE=DATE:20250515
DTSTAMP:20260421T193519
CREATED:20250416T094523Z
LAST-MODIFIED:20250422T112149Z
UID:40628-1745884800-1747267199@sok.com.pl
SUMMARY:WYSTAWA Z OKAZJI ŚWIĘTA 3 MAJA "KRONIKARZE PISZĄ... CHRZEST POLSKI"
DESCRIPTION:Zapraszamy na wystawę „Kronikarze piszą Chrzest Polski”\, która będzie dostępna w Klubie Bolko w dniach 29 kwietnia 2025- 14 maja 2025 r. \nWystawa ta podejmuje temat wydarzeń z 966 roku przez pryzmat dzieł kronikarzy – Galla Anonima\, Jana Długosza\, Wincentego Kadłubka oraz Thietmara z Merseburga. Teksty te omawiają okoliczności\, przebieg chrztu Mieszka I\, zabiegi mające na celu szerzenie tradycji chrześcijańskiej na ziemiach polskich. \nSzczególną uwagę odbiorców wystawy zwróci forma omówienia wydarzeń z 966 roku. Prace kronikarzy – ich język\, sposób przedstawiania postaci\, stanowią przyczynek do poznania kultury Polski minionych wieków. Czytając dawne kroniki poddajemy się ich czarowi\, niezwykłemu nastrojowi pracowni pisarzy sprzed stuleci. Bohaterem ekspozycji są bowiem\, prócz wydarzeń historycznych\, same kroniki i kronikarze. \nTeksty kronikarskie zilustrowane zostały kopiami kart wielowiekowych ksiąg\, przepisywanych odręcznie\, z charakterystycznymi dla rękopisów ozdobnikami\, ale także notatkami na marginesach\, znakami czasu na papierowych kartach. To czyni ekspozycję interesującą także w sferze grafiki. \nWystawa będzie dostępna w godzinach 16:00-21:00 codziennie od poniedziałku do piątku oraz w trakcie trwania imprez\, a także po wcześniejszym umówieniu telefonicznym: 506 859 729.
URL:https://sok.com.pl/wydarzenie/wystawa-z-okazji-swieta-3-maja-kronikarze-pisza-chrzest-polski/
LOCATION:Klub Bolko\, pl. Grunwaldzki 11\, Świdnica\, Dolnośląskie\, 58-100\, Polska
CATEGORIES:Wystawa
ATTACH;FMTTYPE=image/jpeg:https://sok.com.pl/wp-content/uploads/2025/04/plakat_wstep-Kopia.jpg
ORGANIZER;CN="%C5%9Awidnicki%20O%C5%9Brodek%20Kultury":MAILTO:sok@sok.com.pl
END:VEVENT
END:VCALENDAR