BEGIN:VCALENDAR
VERSION:2.0
PRODID:-//Świdnicki Ośrodek Kultury - ECPv5.5.0.1//NONSGML v1.0//EN
CALSCALE:GREGORIAN
METHOD:PUBLISH
X-WR-CALNAME:Świdnicki Ośrodek Kultury
X-ORIGINAL-URL:https://sok.com.pl
X-WR-CALDESC:Wydarzenia na Świdnicki Ośrodek Kultury
BEGIN:VTIMEZONE
TZID:Europe/Warsaw
BEGIN:DAYLIGHT
TZOFFSETFROM:+0100
TZOFFSETTO:+0200
TZNAME:CEST
DTSTART:20230326T010000
END:DAYLIGHT
BEGIN:STANDARD
TZOFFSETFROM:+0200
TZOFFSETTO:+0100
TZNAME:CET
DTSTART:20231029T010000
END:STANDARD
END:VTIMEZONE
BEGIN:VEVENT
DTSTART;TZID=Europe/Warsaw:20230324T180000
DTEND;TZID=Europe/Warsaw:20230324T193000
DTSTAMP:20260421T183944
CREATED:20230308T095033Z
LAST-MODIFIED:20230308T095116Z
UID:33782-1679680800-1679686200@sok.com.pl
SUMMARY:„WIOSNA” KONCERT LAUREATÓW „THE VOICE OF POLAND”
DESCRIPTION:Starosta Świdnicki wraz z Lokalną Organizacją Turystyczną Księstwo Świdnicko-Jaworskie zapraszają na koncert pod tytułem WIOSNA. \nW programie koncertu utwory Anny German\, Anny Jantar\, Czesława Niemena\, Marka Grechuty\, Zbigniewa Wodeckiego oraz zespołu Breakout.\nWykonawcami będą laureaci polskiej edycji programu The Voice of Poland: Marta Burdynowicz\, Przemek Radziszewski i Tomasz Fridrych. \nKoncert odbędzie się 24 marca 2023 r. w auli I Liceum Ogólnokształcącego przy ul. Pionierów Ziemi Świdnickiej 30\, o godz. 18.00. \nBilety w cenie 20 zł do nabycia w Regionalnej Informacji Turystycznej i Kulturalnej w Świdnicy\, Rynek 39-40.
URL:https://sok.com.pl/wydarzenie/wiosna-koncert-w-wykonaniu-laureatow-the-voice-of-poland/
LOCATION:Aula I Liceum Ogólnokształcącego w Świdnicy\, Pionierów 30\, Świdnica\, Dolnośląskie\, 58-100\, Polska
CATEGORIES:Muzyka
ATTACH;FMTTYPE=image/jpeg:https://sok.com.pl/wp-content/uploads/2023/03/powiat_FB_Swidnica_wiosna_2023-02-27.jpg
END:VEVENT
END:VCALENDAR