BEGIN:VCALENDAR
VERSION:2.0
PRODID:-//Świdnicki Ośrodek Kultury - ECPv5.5.0.1//NONSGML v1.0//EN
CALSCALE:GREGORIAN
METHOD:PUBLISH
X-WR-CALNAME:Świdnicki Ośrodek Kultury
X-ORIGINAL-URL:https://sok.com.pl
X-WR-CALDESC:Wydarzenia na Świdnicki Ośrodek Kultury
BEGIN:VTIMEZONE
TZID:Europe/Warsaw
BEGIN:DAYLIGHT
TZOFFSETFROM:+0100
TZOFFSETTO:+0200
TZNAME:CEST
DTSTART:20210328T010000
END:DAYLIGHT
BEGIN:STANDARD
TZOFFSETFROM:+0200
TZOFFSETTO:+0100
TZNAME:CET
DTSTART:20211031T010000
END:STANDARD
END:VTIMEZONE
BEGIN:VEVENT
DTSTART;TZID=Europe/Warsaw:20211217T180000
DTEND;TZID=Europe/Warsaw:20211217T190000
DTSTAMP:20260423T234849
CREATED:20211216T070440Z
LAST-MODIFIED:20211216T070553Z
UID:30551-1639764000-1639767600@sok.com.pl
SUMMARY:WERNISAŻ WYSTAWY „REKLAMA NIE ZROBI SIĘ SAMA”
DESCRIPTION:Świdnicki Ośrodek Kultury\noraz Zespół Szkół Ekonomicznych im. Wincentego Stysia w Świdnicy\nzapraszają na wernisaż wystawy prac uczniów \nREKLAMA NIE ZROBI SIĘ SAMA \nktóry odbędzie się\n17 grudnia 2021 roku o godzinie 18:00\nKlub Bolko\, pl. Grunwaldzki 11\, Świdnica \nTechnik reklamy\n– to intrygująca\, kreatywna\, poznawcza\, poszukująca ciągle nowych wyzwań i umiejętności specjalizacja. \nTworzenie współczesnej reklamy wymaga pracy zespołowej na różnych etapach jej powstawania. Zamierzony efekt osiągany jest wieloetapowo: zaczyna się od pomysłu\, który pomagają nam zrealizować nasi koledzy z pokrewnych zawodów i branż  np. fotografia\, grafika komputerowa\, poligrafia\, management. Dobra współpraca\, życzliwość i odpowiedzialność pozwalają wspólnie osiągnąć cel i sukces. Celem reklamy jest zazwyczaj sprzedaż produktu\, a sukcesem docenienie stworzonego dzieła przez branżę. \nNa wystawie pokazano\, jaką drogę odbywa projekt reklamy od pomysłu do wykonania gotowego produktu reklamowego. Mamy nadzieję\, że uda się nam przybliżyć Państwu ten fascynujący proces powstania reklamy w jej kilku odsłonach. \nZespół Szkół Ekonomicznych im. Wincentego Stysia w Świdnicy nieprzerwanie od 1991 roku kształci specjalistów w dziedzinie reklamy. Czas biegnie\, a reklama zmienia się wraz z nim. Każdego roku do zawodu trafiają nowi adepci\, którzy dzięki nauczycielom mogli poznawać tajniki wiedzy teoretycznej i praktycznej. \nMłodzi uczniowie prezentujący swoje prace włączają się w bogatą i zapoczątkowaną wiele lat temu tradycję wystaw i współpracy pomiędzy Zespołem Szkół Ekonomicznych a Świdnickim Ośrodkiem Kultury. \nZapraszamy do świata reklamy widzianego oczami młodych ludzi. \nKurator wystawy\nmgr Anna Larina-Dzimira\nartysta grafik\, nauczyciel przedmiotów zawodowych
URL:https://sok.com.pl/wydarzenie/wernisaz-wystawy-reklama-nie-zrobi-sie-sama/
LOCATION:Klub Bolko\, pl. Grunwaldzki 11\, Świdnica\, Dolnośląskie\, 58-100\, Polska
CATEGORIES:Wystawa
ATTACH;FMTTYPE=image/jpeg:https://sok.com.pl/wp-content/uploads/2021/12/B2_wystawa_ekonomik.jpg
END:VEVENT
END:VCALENDAR