BEGIN:VCALENDAR
VERSION:2.0
PRODID:-//Świdnicki Ośrodek Kultury - ECPv5.5.0.1//NONSGML v1.0//EN
CALSCALE:GREGORIAN
METHOD:PUBLISH
X-WR-CALNAME:Świdnicki Ośrodek Kultury
X-ORIGINAL-URL:https://sok.com.pl
X-WR-CALDESC:Wydarzenia na Świdnicki Ośrodek Kultury
BEGIN:VTIMEZONE
TZID:Europe/Warsaw
BEGIN:DAYLIGHT
TZOFFSETFROM:+0100
TZOFFSETTO:+0200
TZNAME:CEST
DTSTART:20200329T010000
END:DAYLIGHT
BEGIN:STANDARD
TZOFFSETFROM:+0200
TZOFFSETTO:+0100
TZNAME:CET
DTSTART:20201025T010000
END:STANDARD
END:VTIMEZONE
BEGIN:VEVENT
DTSTART;TZID=Europe/Warsaw:20200214T180000
DTEND;TZID=Europe/Warsaw:20200214T180000
DTSTAMP:20260421T083515
CREATED:20200129T125343Z
LAST-MODIFIED:20200206T083632Z
UID:24210-1581703200-1581703200@sok.com.pl
SUMMARY:WERNISAŻ WYSTAWY FOTOGRAFII WOBEC CODZIENNOŚCI
DESCRIPTION:Żyjemy w czasie nadmiaru. Natłok zdarzeń ważnych i mniej znaczących\, ale hałaśliwych\, zajmuje nasze myśli i skupia uwagę. Często nie potrafimy oddzielić tego co istotne od medialnego szumu. Nie wiemy\, gdzie jest kończy się prawda\, a zaczyna manipulacja. Zacierają się normy i różnice między porządkiem a chaosem. Stajemy bezradni wobec faktów dokonanych. \nZ takich przemyśleń zrodził się pomysł na wystawę. Towarzyszyło temu przekonanie o potrzebie zajmowania stanowiska\, rejestrowania zmian\, tworzenia dokumentów czasu\, obserwacji naszej codzienności i własnych emocji w sposób przynależny fotografom. To artystyczne wyzwanie podjęło 16 członków Stowarzyszenia Jeleniogórska Strefa Fotografii: \nWojciech Bykowski\, Beata Chłopeniuk\, Jan Foremny\, Jarosław Frątczak\, Dariusz Goetze\, Nina Hobgarska\, Jacek Jaśko\, Marek Liksztet\, Wojciech Miatkowski\, Tomasz Mielech\, Natalia Polak\, Dariusz Szymański\, Grzegorz Truchanowicz\, Zygmunt Trylański\, Agnieszka Hundert-Wawrzyniak\, Norbert Wawrzyniak. \nPokazują oni swoje nowe prace\, które są odpowiedzią na postawione problemy. \nJak pisze w katalogu Justyna Wierzchucka: „Fotografie wybrane na wystawę prezentują subiektywne\, indywidualne spojrzenia na otoczenie\, są luźną interpretacją każdego z twórców na temat podjęty w wystawie. Od migawek z codziennego życia rodziny\, przez ulotne wrażenia z domowych wnętrz\, aż po krajobrazy i architekturę\, czy zdjęcia z udziałem ludzi\, zgromadzonych we wspólnym celu. Ulice miast z zaniedbanymi zakątkami\, zarastające roślinnością światowej klasy zabytki\, fragmenty architektury wplecione w graficzne animacje\, dzieci sprzedające zabawki czy żebrząca staruszka – te momenty\, osoby przykuły uwagę fotografów\, spowodowały\, że warto było wyciągnąć aparat i utrwalić chwilę\, wrażenie. A potem pokazać je widzowi – kolejnemu ogniwu w procesie zapamiętywania i interpretowania”. \nTa prezentacja jest też obrazem indywidualnych preferencji estetycznych oraz aktualnej kondycji twórczej Strefy. \n 
URL:https://sok.com.pl/wydarzenie/wernisaz-wystawy-fotografii-wobec-codziennosci/
LOCATION:Galeria Fotografii\, Rynek 44\, Świdnica\, Dolnośląskie\, 58-100\, Polska
CATEGORIES:Wystawa
ATTACH;FMTTYPE=image/jpeg:https://sok.com.pl/wp-content/uploads/2020/01/B2_Jelenia_Gora.jpg
ORGANIZER;CN="%C5%9Awidnicki%20O%C5%9Brodek%20Kultury":MAILTO:sok@sok.com.pl
END:VEVENT
END:VCALENDAR