BEGIN:VCALENDAR
VERSION:2.0
PRODID:-//Świdnicki Ośrodek Kultury - ECPv5.5.0.1//NONSGML v1.0//EN
CALSCALE:GREGORIAN
METHOD:PUBLISH
X-WR-CALNAME:Świdnicki Ośrodek Kultury
X-ORIGINAL-URL:https://sok.com.pl
X-WR-CALDESC:Wydarzenia na Świdnicki Ośrodek Kultury
BEGIN:VTIMEZONE
TZID:Europe/Warsaw
BEGIN:DAYLIGHT
TZOFFSETFROM:+0100
TZOFFSETTO:+0200
TZNAME:CEST
DTSTART:20250330T010000
END:DAYLIGHT
BEGIN:STANDARD
TZOFFSETFROM:+0200
TZOFFSETTO:+0100
TZNAME:CET
DTSTART:20251026T010000
END:STANDARD
END:VTIMEZONE
BEGIN:VEVENT
DTSTART;TZID=Europe/Warsaw:20250822T180000
DTEND;TZID=Europe/Warsaw:20250822T190000
DTSTAMP:20260424T123621
CREATED:20250723T072304Z
LAST-MODIFIED:20250723T072802Z
UID:41234-1755885600-1755889200@sok.com.pl
SUMMARY:Wernisaż wystawy "DEPRESJE" Arek Akki
DESCRIPTION:Arek Akki (ur. 1974\, Leszno) to fotograf eksplorujący pogranicze aktu i fotografii narracyjnej. W tworzonych pracach często wykorzystuje akt\, jednak staje się on jedynie tłem dla symboli i przedmiotów\, które nadają obrazom kontekst emocjonalny i narracyjny. \nArek Akki tworzy fotografie wokół tematów: dyskomfort ciała\, napięte relacje z otoczeniem\, pamięć i wspomnienia\, poszukiwanie anonimowości\, samotność i wyobcowanie. \nPrezentowane prace\, wykonane na szklanych płytach w technice mokrego kolodionu\, realizują też fascynacje: fizyczną formą fotografii (fotografia jako przedmiot) oraz fotochemicznym zapisie obrazu (obraz srebrowy). \n\n📅 22 sierpnia 2025\n\n\n🕕 godz. 18:00\n\n\n📍 Galeria Fotografii\, Rynek 44\n\n\n🎫 wstęp wolny\n\nUkończył studia na Akademii Sztuk Pięknych w Poznaniu\, gdzie w 2000 roku obronił pracę licencjacką z obszaru fotografii otworkowej. \nOstatnie wystawy indywidualne:\n2025: „Samotność/alienacja/uwięzienie.”  – Leszno\, Galeria MBWA\n2024: „Pamięć. Ciało. Relacje.”  – Wrocław\, Galeria CAL Na Przedmieściu \nOstatnie wystawy zbiorowe:\n2025: „Nieakceptacja”\, „Niechciane wspomnienia” jako część Wschodniego Festiwalu Fotografii – Lublin\, Centrum Spotkania Kultur.\n2024: „Light and Silver.” – Paryż\, Galeria CAL Na Przedmieściu \nW latach 2020–2024 brał udział w wystawach zbiorowych poświęconych fotografii aktu. \nJego twórczość została także doceniona w prestiżowych międzynarodowych konkursach fotograficznych\, m.in. Monochrome Awards (2018\, 2020\, 2022\, 2024)\, Fine Art Photography Awards (2020\, 2021) oraz ND Awards (2020\, 2022\, 2023). \nPortfolio: akki.pl\nInstagram: akki_monochrome
URL:https://sok.com.pl/wydarzenie/wernisaz-wystawy-depresje-arek-akki/
LOCATION:Galeria Fotografii\, Rynek 44\, Świdnica\, Dolnośląskie\, 58-100\, Polska
CATEGORIES:Wystawa
ATTACH;FMTTYPE=image/jpeg:https://sok.com.pl/wp-content/uploads/2025/07/2025-07-akki-plakat-50x70cm-swidnica-scaled.jpg
ORGANIZER;CN="%C5%9Awidnicki%20O%C5%9Brodek%20Kultury":MAILTO:sok@sok.com.pl
END:VEVENT
END:VCALENDAR