BEGIN:VCALENDAR
VERSION:2.0
PRODID:-//Świdnicki Ośrodek Kultury - ECPv5.5.0.1//NONSGML v1.0//EN
CALSCALE:GREGORIAN
METHOD:PUBLISH
X-WR-CALNAME:Świdnicki Ośrodek Kultury
X-ORIGINAL-URL:https://sok.com.pl
X-WR-CALDESC:Wydarzenia na Świdnicki Ośrodek Kultury
BEGIN:VTIMEZONE
TZID:Europe/Warsaw
BEGIN:DAYLIGHT
TZOFFSETFROM:+0100
TZOFFSETTO:+0200
TZNAME:CEST
DTSTART:20250330T010000
END:DAYLIGHT
BEGIN:STANDARD
TZOFFSETFROM:+0200
TZOFFSETTO:+0100
TZNAME:CET
DTSTART:20251026T010000
END:STANDARD
END:VTIMEZONE
BEGIN:VEVENT
DTSTART;TZID=Europe/Warsaw:20251122T110000
DTEND;TZID=Europe/Warsaw:20251122T130000
DTSTAMP:20260421T033101
CREATED:20251021T090047Z
LAST-MODIFIED:20251022T125905Z
UID:42001-1763809200-1763816400@sok.com.pl
SUMMARY:WARSZTATY MUZYKOTERAPEUTYCZNE - FILM I DŹWIĘK
DESCRIPTION:📩 Liczba miejsc ograniczona! Zapisy: k.mazanka@sok.com.pl \nZapraszamy na niezwykłe warsztaty muzykoterapeutyczne: Film i Dźwięk dla rodziców/opiekunów z dziećmi w wieku +5 lat! 🌟 \nNie trzeba mieć doświadczenia muzycznego – liczy się zabawa i wspólne tworzenie! 🎶✨ \nPodczas spotkania:\n🎼 stworzymy muzykę do krótkiego filmu\,\n🥁 będziemy eksperymentować z różnymi dźwiękami i instrumentami\,\n🎬 odkryjemy\, jak dźwięk wpływa na emocje w filmie\,\n💛 spędzimy kreatywny czas w rodzinnej atmosferze! \n📅 Data: 22 listopada 2025\n📍 Miejsce: Klub Bolko\, pl. Grunwaldzki 11\n⏰ Godzina: 11:00 \n\n—\nZadanie finansowane jest ze środków przekazanych przez Gminę Miasto Świdnica w ramach zadania „Aktywność-Twórczość-Profilaktyka”.
URL:https://sok.com.pl/wydarzenie/warsztaty-muzykoterapeutyczne-film-i-dzwiek-2/
LOCATION:Klub Bolko\, pl. Grunwaldzki 11\, Świdnica\, Dolnośląskie\, 58-100\, Polska
CATEGORIES:Warsztaty
ATTACH;FMTTYPE=image/jpeg:https://sok.com.pl/wp-content/uploads/2025/10/Film-i-dzwiek_22-11.jpg
ORGANIZER;CN="%C5%9Awidnicki%20O%C5%9Brodek%20Kultury":MAILTO:sok@sok.com.pl
END:VEVENT
END:VCALENDAR