BEGIN:VCALENDAR
VERSION:2.0
PRODID:-//Świdnicki Ośrodek Kultury - ECPv5.5.0.1//NONSGML v1.0//EN
CALSCALE:GREGORIAN
METHOD:PUBLISH
X-WR-CALNAME:Świdnicki Ośrodek Kultury
X-ORIGINAL-URL:https://sok.com.pl
X-WR-CALDESC:Wydarzenia na Świdnicki Ośrodek Kultury
BEGIN:VTIMEZONE
TZID:Europe/Warsaw
BEGIN:DAYLIGHT
TZOFFSETFROM:+0100
TZOFFSETTO:+0200
TZNAME:CEST
DTSTART:20250330T010000
END:DAYLIGHT
BEGIN:STANDARD
TZOFFSETFROM:+0200
TZOFFSETTO:+0100
TZNAME:CET
DTSTART:20251026T010000
END:STANDARD
END:VTIMEZONE
BEGIN:VEVENT
DTSTART;TZID=Europe/Warsaw:20251107T110000
DTEND;TZID=Europe/Warsaw:20251110T133000
DTSTAMP:20260421T064208
CREATED:20251105T111530Z
LAST-MODIFIED:20251105T111530Z
UID:42135-1762513200-1762781400@sok.com.pl
SUMMARY:WARSZTATY ARTYSTYCZNE - RUCH SCENICZNY
DESCRIPTION:Serdecznie zapraszamy na warsztaty z ruchu scenicznego! \nZajęcia stanowią kontynuację pracy nad choreografią inspirowaną klasycznymi rzeźbami greckimi\, w których ciało i gest stają się wyrazem harmonii\, piękna i ponadczasowej ekspresji.\nPodczas warsztatów uczestnicy będą mieli okazję doświadczyć połączenia sztuki tańca z dziedzictwem antyku\, a następnie podjąć twórcze poszukiwania – kreując własne kompozycje ruchowe\, będące indywidualnym wyrazem ich wrażliwości i wyobraźni. \nProwadząca: Hanna Stawczyk – studentka aktorstwa na Akademii Sztuk Teatralnych w Krakowie\, Wydział Teatru Tańca w Bytomiu. Pasjonuje się ruchem oraz możliwościami łączenia ekspresji ruchowej z grą aktorską. Absolwentka kierunku Zarządzanie kulturą i mediami na Uniwersytecie Jagiellońskim. \nTerminy:\n7 listopada (piątek)  godz. 11-13.00\,– grupa Dorośli\n9 listopada (niedziela) godz. 16.00- 18.30 i 10 listopada (poniedziałek)  goodz.11.00-13.30 – Grupa otwarta (od 15 lat) \nzapisy h.szymanska@sok.com.pl \n  \nDziałanie realizowane w ramach projektu „Rytm i Ruch” – moduł Alchemia Teatralna. \nDofinansowano ze środków Ministra Kultury i Dziedzictwa Narodowego pochodzących z Funduszu Promocji Kultury – państwowego funduszu celowego.
URL:https://sok.com.pl/wydarzenie/warsztaty-artystyczne-ruch-sceniczny/
LOCATION:Klub Bolko\, pl. Grunwaldzki 11\, Świdnica\, Dolnośląskie\, 58-100\, Polska
CATEGORIES:Warsztaty
ATTACH;FMTTYPE=image/jpeg:https://sok.com.pl/wp-content/uploads/2025/11/B2_warsztaty_ruch-sceniczny_11-2025.jpg
ORGANIZER;CN="%C5%9Awidnicki%20O%C5%9Brodek%20Kultury":MAILTO:sok@sok.com.pl
END:VEVENT
END:VCALENDAR