BEGIN:VCALENDAR
VERSION:2.0
PRODID:-//Świdnicki Ośrodek Kultury - ECPv5.5.0.1//NONSGML v1.0//EN
CALSCALE:GREGORIAN
METHOD:PUBLISH
X-WR-CALNAME:Świdnicki Ośrodek Kultury
X-ORIGINAL-URL:https://sok.com.pl
X-WR-CALDESC:Wydarzenia na Świdnicki Ośrodek Kultury
BEGIN:VTIMEZONE
TZID:Europe/Warsaw
BEGIN:DAYLIGHT
TZOFFSETFROM:+0100
TZOFFSETTO:+0200
TZNAME:CEST
DTSTART:20240331T010000
END:DAYLIGHT
BEGIN:STANDARD
TZOFFSETFROM:+0200
TZOFFSETTO:+0100
TZNAME:CET
DTSTART:20241027T010000
END:STANDARD
END:VTIMEZONE
BEGIN:VEVENT
DTSTART;TZID=Europe/Warsaw:20240629T110000
DTEND;TZID=Europe/Warsaw:20240629T140000
DTSTAMP:20260421T063820
CREATED:20240614T125248Z
LAST-MODIFIED:20240614T125248Z
UID:36967-1719658800-1719669600@sok.com.pl
SUMMARY:WARSZTATY AKWARELOWE
DESCRIPTION:KUP BILET \nWarsztaty akwarelowe dla dorosłych i młodzieży (od lat 16) \nTo już ostatnie warsztaty przed wakacjami. Tematem zajęć będą efekty specjalne w malarstwie akwarelowym. \nMateriały (szkicownik\, papier\, farby) oraz narzędzia (ołówek\, pędzle\, spryskiwacz do wody\, płyn maskujący\, papierowa taśma malarska) we własnym zakresie.
URL:https://sok.com.pl/wydarzenie/warsztaty-akwarelowe-8/
LOCATION:Galeria Fotografii\, Rynek 44\, Świdnica\, Dolnośląskie\, 58-100\, Polska
CATEGORIES:Warsztaty
ATTACH;FMTTYPE=image/png:https://sok.com.pl/wp-content/uploads/2024/06/Akwarela_amatorzy-29-06-2024.png
ORGANIZER;CN="%C5%9Awidnicki%20O%C5%9Brodek%20Kultury":MAILTO:sok@sok.com.pl
END:VEVENT
END:VCALENDAR