BEGIN:VCALENDAR
VERSION:2.0
PRODID:-//Świdnicki Ośrodek Kultury - ECPv5.5.0.1//NONSGML v1.0//EN
CALSCALE:GREGORIAN
METHOD:PUBLISH
X-WR-CALNAME:Świdnicki Ośrodek Kultury
X-ORIGINAL-URL:https://sok.com.pl
X-WR-CALDESC:Wydarzenia na Świdnicki Ośrodek Kultury
BEGIN:VTIMEZONE
TZID:Europe/Warsaw
BEGIN:DAYLIGHT
TZOFFSETFROM:+0100
TZOFFSETTO:+0200
TZNAME:CEST
DTSTART:20260329T010000
END:DAYLIGHT
BEGIN:STANDARD
TZOFFSETFROM:+0200
TZOFFSETTO:+0100
TZNAME:CET
DTSTART:20261025T010000
END:STANDARD
END:VTIMEZONE
BEGIN:VEVENT
DTSTART;TZID=Europe/Warsaw:20260228T110000
DTEND;TZID=Europe/Warsaw:20260228T140000
DTSTAMP:20260421T101453
CREATED:20260213T131244Z
LAST-MODIFIED:20260213T131244Z
UID:43595-1772276400-1772287200@sok.com.pl
SUMMARY:WARSZTATY AKWARELOWE
DESCRIPTION:KUP BILET \nKolejne warsztaty akwarelowe w Klubie Bolko. W czasie zajęć zajmiemy się tematem szeroko pojętego kontrastu w akwareli na doskonałym przykładzie jakim jest zimowy pejzaż.\nWarsztaty prowadzi Marta Ciućka. \nMateriały (szkicownik\, papier najlepiej formatu A3\, farby) oraz narzędzia (ołówek B i HB\, pędzle\, spryskiwacz do wody\, płyn maskujący\, papierowa taśma malarska) we własnym zakresie.\nZajęcia odbywają się cyklicznie\, raz w miesiącu.
URL:https://sok.com.pl/wydarzenie/warsztaty-akwarelowe-21/
LOCATION:Klub Bolko\, pl. Grunwaldzki 11\, Świdnica\, Dolnośląskie\, 58-100\, Polska
CATEGORIES:Warsztaty
ATTACH;FMTTYPE=image/png:https://sok.com.pl/wp-content/uploads/2026/02/Akwarela_amatorzy-28-02-2026.png
ORGANIZER;CN="%C5%9Awidnicki%20O%C5%9Brodek%20Kultury":MAILTO:sok@sok.com.pl
END:VEVENT
END:VCALENDAR