BEGIN:VCALENDAR
VERSION:2.0
PRODID:-//Świdnicki Ośrodek Kultury - ECPv5.5.0.1//NONSGML v1.0//EN
CALSCALE:GREGORIAN
METHOD:PUBLISH
X-WR-CALNAME:Świdnicki Ośrodek Kultury
X-ORIGINAL-URL:https://sok.com.pl
X-WR-CALDESC:Wydarzenia na Świdnicki Ośrodek Kultury
BEGIN:VTIMEZONE
TZID:Europe/Warsaw
BEGIN:DAYLIGHT
TZOFFSETFROM:+0100
TZOFFSETTO:+0200
TZNAME:CEST
DTSTART:20230326T010000
END:DAYLIGHT
BEGIN:STANDARD
TZOFFSETFROM:+0200
TZOFFSETTO:+0100
TZNAME:CET
DTSTART:20231029T010000
END:STANDARD
END:VTIMEZONE
BEGIN:VEVENT
DTSTART;TZID=Europe/Warsaw:20230114T190000
DTEND;TZID=Europe/Warsaw:20230114T220000
DTSTAMP:20260420T014120
CREATED:20221220T110220Z
LAST-MODIFIED:20230103T121912Z
UID:33127-1673722800-1673733600@sok.com.pl
SUMMARY:TRUSKAWKA #20: Comin + OYA + Common Swift [metal-rock]
DESCRIPTION:Zapraszamy na sceniczny debiut i premierę płyty Common Swift! Razem z nimi goście specjalni: Comin oraz OYA! \nComin [metal] / facebook\nWałbrzyscy zwycięzcy ostatniej plenerowej “Truskawki” z 2015 roku.\nBalansują pomiędzy nu-metalem\, thrashem i metalcorem. \nOYA [rock] / facebook\nStrzegomianie mają za sobą jesienną trasę w 14 miastach.\nZ przyjemnością sprawdzimy czy nie dostali zadyszki 😉 \nCommon Swift [post metal] / facebook\nInstrumentalne trio w 66\,6% pochodzące ze Świdnicy.\nTwórcy zawiłych gitarowych faktur\, onirycznych melodii i nieoczywistych rytmów.\nIch debiutanckie “Reverse Taxidermy” już dostępna na wszystkich platformach streamingowych. \nŚWIDNICA | KLUB BOLKO\n14 stycznia 2023\nstart: 19:00 (bramka: 18:30)\nbilety: 20 zł / 30 zł (przedsprzedaż / w dniu koncertu) \nKUP BILET\n  \n\n 
URL:https://sok.com.pl/wydarzenie/truskawka-20-comin-oya-common-swift-metal-rock/
LOCATION:Klub Bolko\, pl. Grunwaldzki 11\, Świdnica\, Dolnośląskie\, 58-100\, Polska
CATEGORIES:Muzyka
ATTACH;FMTTYPE=image/png:https://sok.com.pl/wp-content/uploads/2022/12/sok-truskawka-230114-comin-oya-common-swift.png
ORGANIZER;CN="%C5%9Awidnicki%20O%C5%9Brodek%20Kultury":MAILTO:sok@sok.com.pl
END:VEVENT
END:VCALENDAR