BEGIN:VCALENDAR
VERSION:2.0
PRODID:-//Świdnicki Ośrodek Kultury - ECPv5.5.0.1//NONSGML v1.0//EN
CALSCALE:GREGORIAN
METHOD:PUBLISH
X-WR-CALNAME:Świdnicki Ośrodek Kultury
X-ORIGINAL-URL:https://sok.com.pl
X-WR-CALDESC:Wydarzenia na Świdnicki Ośrodek Kultury
BEGIN:VTIMEZONE
TZID:Europe/Warsaw
BEGIN:DAYLIGHT
TZOFFSETFROM:+0100
TZOFFSETTO:+0200
TZNAME:CEST
DTSTART:20200329T010000
END:DAYLIGHT
BEGIN:STANDARD
TZOFFSETFROM:+0200
TZOFFSETTO:+0100
TZNAME:CET
DTSTART:20201025T010000
END:STANDARD
END:VTIMEZONE
BEGIN:VEVENT
DTSTART;TZID=Europe/Warsaw:20200131T190000
DTEND;TZID=Europe/Warsaw:20200131T190000
DTSTAMP:20260421T071301
CREATED:20190911T083720Z
LAST-MODIFIED:20200124T082601Z
UID:21883-1580497200-1580497200@sok.com.pl
SUMMARY:THE CUBAN LATIN JAZZ [koncert]
DESCRIPTION:KUP BILET \nThe Cuban Latin Jazz w projekcie Music of Buena Vista to ogromna dawka muzyki rodem z Kuby\, muzyki\, która ekscytuje\, zachwyca i jest pełna pasji. To niezwykłe połączenie muzyki jazzowej\, latynoskiej i kubańskich rytmów. Jeśli z wypiekami na twarzy oglądaliście film Buena Vista Social Club i cenicie sobie muzyczne wydarzenia\, które sprawiają radość\, są pełne żaru i namiętności to The Cuban Latin Jazz zaprezentuje wam to co kochacie! \nZespół tworzą kontrabasista Roland Grzegorz Abreu Krysztofiak\, urodzony na Kubie muzyk\, który trafił do Wrocławia na studia na Akademii Muzycznej\, gdzie studiował klasykę. Z kolei z Ukrainy pochodzi saksofonista Taras Bakovsky\, który grał na ukraińskich festiwalach Odessa Jazz i Muzyczne Dialogi. Pianista Paweł Kukuła zaczynał w Grudziądzu\, trafił do Warszawy i w końcu na wrocławską Akademię Muzyczną. Czwartym muzykiem The Cuban Latin Jazz jest perkusista Dominik Jaske. W zespole gościnnie śpiewają m.in. Yaremi Kordos\, Juan Carlos Hechavarria\, Alexis Herrera Estevez\, Elio Rodriguez\, którzy występowali na jednej scenie z Compay’em Segundo i z Omarą Portuondo. \nZespół zdobył nagrodę Grand Prix Złotego Krokusa\, II miejsce na festiwalu jazzowym Jazz nad Odrą 2018 i Tarnów Jazz Contest\, oraz III Miejsce w Blue Note Poznań Competition i został nominowany do Wrocławskiej Nagrody Kulturalnej Warto 2018.
URL:https://sok.com.pl/wydarzenie/the-cuban-latin-jazz-koncert/
LOCATION:Świdnicki Ośrodek Kultury\, Rynek 43\, Świdnica\, Dolnośląskie\, 58-100\, Polska
CATEGORIES:Koncerty
ATTACH;FMTTYPE=image/jpeg:https://sok.com.pl/wp-content/uploads/2019/09/IMG_7650.jpg
ORGANIZER;CN="%C5%9Awidnicki%20O%C5%9Brodek%20Kultury":MAILTO:sok@sok.com.pl
END:VEVENT
END:VCALENDAR