BEGIN:VCALENDAR
VERSION:2.0
PRODID:-//Świdnicki Ośrodek Kultury - ECPv5.5.0.1//NONSGML v1.0//EN
CALSCALE:GREGORIAN
METHOD:PUBLISH
X-WR-CALNAME:Świdnicki Ośrodek Kultury
X-ORIGINAL-URL:https://sok.com.pl
X-WR-CALDESC:Wydarzenia na Świdnicki Ośrodek Kultury
BEGIN:VTIMEZONE
TZID:Europe/Warsaw
BEGIN:DAYLIGHT
TZOFFSETFROM:+0100
TZOFFSETTO:+0200
TZNAME:CEST
DTSTART:20210328T010000
END:DAYLIGHT
BEGIN:STANDARD
TZOFFSETFROM:+0200
TZOFFSETTO:+0100
TZNAME:CET
DTSTART:20211031T010000
END:STANDARD
END:VTIMEZONE
BEGIN:VEVENT
DTSTART;TZID=Europe/Warsaw:20210625T150000
DTEND;TZID=Europe/Warsaw:20210625T223000
DTSTAMP:20260419T201157
CREATED:20210610T113156Z
LAST-MODIFIED:20210610T113251Z
UID:29012-1624633200-1624660200@sok.com.pl
SUMMARY:ŚWIĘTOJAŃSKI EKOPIKNIK
DESCRIPTION:Zapraszamy na Świętojański Ekopiknik! \nGłównym celem imprezy jest popularyzacja wśród mieszkańców Świdnicy i okolic zdrowego\, ekologicznego stylu życia oraz promocja ekoproduktów wytwarzanych przez lokalnych przedsiębiorców. \nA co podczas imprezy? Warsztaty dla całych rodzin\, lokalni wystawcy z ekologicznymi produktami\, obrzęd nocy świętojańskiej i występy zespołów (Zespół Ludowo-Estradowy „Mokrzeszów”\, Zespół Tańca Narodowego Estradowego „Krąg”\, Zespół Śpiewaczy „Ale Babki”). Rekomendujemy białe stroje i zachęcamy do zabrania ze sobą dobrego humoru!
URL:https://sok.com.pl/wydarzenie/swietojanski-ekopiknik/
LOCATION:Park Centralny
CATEGORIES:Koncerty
ATTACH;FMTTYPE=image/jpeg:https://sok.com.pl/wp-content/uploads/2021/06/B2_Eko_piknik_2021.jpg
END:VEVENT
END:VCALENDAR