BEGIN:VCALENDAR
VERSION:2.0
PRODID:-//Świdnicki Ośrodek Kultury - ECPv5.5.0.1//NONSGML v1.0//EN
CALSCALE:GREGORIAN
METHOD:PUBLISH
X-WR-CALNAME:Świdnicki Ośrodek Kultury
X-ORIGINAL-URL:https://sok.com.pl
X-WR-CALDESC:Wydarzenia na Świdnicki Ośrodek Kultury
BEGIN:VTIMEZONE
TZID:Europe/Warsaw
BEGIN:DAYLIGHT
TZOFFSETFROM:+0100
TZOFFSETTO:+0200
TZNAME:CEST
DTSTART:20250330T010000
END:DAYLIGHT
BEGIN:STANDARD
TZOFFSETFROM:+0200
TZOFFSETTO:+0100
TZNAME:CET
DTSTART:20251026T010000
END:STANDARD
END:VTIMEZONE
BEGIN:VEVENT
DTSTART;VALUE=DATE:20250815
DTEND;VALUE=DATE:20250818
DTSTAMP:20260424T111037
CREATED:20250411T100544Z
LAST-MODIFIED:20250805T115357Z
UID:40523-1755216000-1755475199@sok.com.pl
SUMMARY:ŚWIDNICKIE SPOTKANIA AKWARELOWE
DESCRIPTION:KUP BILET \nŚwidnicki Ośrodek Kultury zaprasza na Świdnickie Spotkania Akwarelowe – wyjątkowe wydarzenie pod patronatem artystycznym Stowarzyszenia Akwarelistów Polskich! Trzy dni pełne inspiracji\, sztuki i twórczej atmosfery zgromadzą miłośników akwareli z całej Polski i zagranicy. Przygotowaliśmy mnóstwo atrakcji! A wśród nich: warsztaty\, pokazy malowania\, plenery\, targi artykułów artystycznych. \nWejściówka na Świdnickie Spotkania Akwarelowe w cenie 100 zł obowiązuje przez cały czas trwania wydarzenia. Zapewni Wam: identyfikator uczestnika\, torbę z prezentami od sponsorów (do odbioru osobistego w trakcie festiwalu)\, wstęp na wszystkie pokazy (w tym na demo otwarcia i zamknięcia) i plenery prowadzone przez instruktorów\, udział w wycieczce „Śladem piwa świdnickiego”\, darmowe wejście do niektórych obiektów (np. Muzeum Dawnego Kupiectwa) oraz mnóstwo zniżek w całej Świdnicy (targi\, gastronomia\, zwiedzanie).\nŚwidnickie Spotkania Akwarelowe zakończymy “mokrą” wystawą\, na której każdy z uczestników będzie miał możliwość zaprezentowania swojej pracy. Wejściówki dostępne będą od 15 kwietnia 2025 od godz. 9:00 na stronie bilety.sok.com.pl i w kasach ŚOK. \nUwaga\, na poszczególne warsztaty obowiązują osobne bilety!\nKoszt pojedynczych zajęć to 250 zł. \nGrzegorz Wróbel: Jak zacząć malować szkło\nMona Omrani: Kwiaty w błyszczącym naczyniu\nStanisław Przewłocki: Ekspresja w pejzażu\nTess Pliskovskaya: Portret przy użyciu techniki „airtouch”\nMichael Solovyev: Pejzaż miejski\nMichał Suffczyński: Architektura góralska w pejzażu\nAndrzej Gosik: Owady\nArtur Przybysz: Krajobraz miasta \n \nObiekt Klubu BOLKO  jest niedostosowany do potrzeb osób poruszających się na wózkach inwalidzkich – brak podjazdu oraz brak windy. \n— \nRegulamin Świdnickich Spotkań Akwarelowych \n\nŚwidnickie Spotkania Akwarelowe – zwany dalej „Festiwalem” – są imprezą kulturalno-artystyczną organizowaną przez Świdnicki Ośrodek Kultury w Świdnicy\, będący miejską instytucją kultury posiadającą osobowość prawną\, dla którego organizatorem jest Gmina Miasto Świdnica – zwany dalej „Organizatorem”.\nFestiwal odbywa się w dniach 15—17 sierpnia 2025 w Świdnicy.\nOrganizator określa w niniejszym regulaminie\, zwanym „Regulaminem”\, zasady i warunki uczestnictwa w Festiwalu.\nFestiwal nie jest imprezą masową w rozumieniu przepisów ustawy z dnia 20 marca 2009 r. o bezpieczeństwie imprez masowych (Dz. U z 2015 r. poz. 2139 z późn. zm.).\nUczestnikom Festiwalu w czasie jego trwania\, zabrania się:\n\nprowadzenia działalności handlowej\, politycznej\, związkowej oraz przeprowadzania zbiórek pieniężnych bez zgody Organizatora;\nzażywania środków odurzających lub substancji psychotropowych;\nrozniecania i podsycania ognia oraz palenia tytoniu;\n\n\nOrganizator może również utrwalać przebieg Festiwalu\, w tym uczestników w celu dokumentowania\, archiwizowania i rozpowszechniania informacji o działaniach artystycznych podejmowanych przez Organizatora. Dane te w postaci wizerunku uczestników oraz prac artystycznych przez nich stworzonych mogą być upubliczniane na stronie internetowej oraz na profilach Organizatora w mediach społecznościowych i internetowych serwisach wideo (np. Youtube\, Instagram\, Facebook). Organizator może korzystać z takiego utrwalenia lub jego fragmentu\, w tym przedstawiającego wizerunek uczestnika\, bez ograniczeń czasowych i terytorialnych\, bez konieczności zapłaty wynagrodzenia za korzystanie z wizerunku\, na wszelkich polach eksploatacji.\nUczestnictwo w wydarzeniach Festiwalu stanowi jednoczesną zgodę ze strony uczestnika na użycie jego wizerunku w tym na upublicznianie i przetwarzanie jego wizerunku na zdjęciach lub filmach wykonanych podczas wydarzenia.\nOrganizator jest uprawniony do utrwalania przebiegu Festiwalu\, a w szczególności zachowania uczestników\, za pomocą urządzeń rejestrujących obraz i dźwięk.\nZakres Festiwalu\, w tym warsztatów i wystaw czasowych\, może zostać ograniczony przez Organizatora na skutek wystąpienia przyczyn od niego niezależnych (w tym niekorzystnych warunków atmosferycznych uniemożliwiających przeprowadzenie warsztatów)\, ze względu na bezpieczeństwo Uczestników albo uzasadniony interes Organizatora. Ograniczenie zakresu Festiwalu nie jest równoznaczne z odwołaniem Festiwalu.\nW przypadku jakichkolwiek zmian w zakresie przepisów prawa lub rekomendacji bądź wytycznych ze strony Ministerstwa Kultury i Dziedzictwa Narodowego\, Ministerstwa Rozwoju\, Głównego Inspektora Sanitarnego lub właściwego powiatowego inspektora sanitarnego\, niniejszy Regulamin może ulec zmianie lub uzupełnieniu\, zaś Uczestnicy Festiwalu (uczestnicy) zobligowani są do stosowania się do zaktualizowanego Regulaminu.
URL:https://sok.com.pl/wydarzenie/swidnickie-spotkania-akwarelowe-wejsciowka/
LOCATION:Klub Bolko\, pl. Grunwaldzki 11\, Świdnica\, Dolnośląskie\, 58-100\, Polska
CATEGORIES:Inne,Warsztaty
ATTACH;FMTTYPE=image/png:https://sok.com.pl/wp-content/uploads/2025/04/Grafika_wejsciowka_1080-x-1080-px.png
ORGANIZER;CN="%C5%9Awidnicki%20O%C5%9Brodek%20Kultury":MAILTO:sok@sok.com.pl
END:VEVENT
END:VCALENDAR