BEGIN:VCALENDAR
VERSION:2.0
PRODID:-//Świdnicki Ośrodek Kultury - ECPv5.5.0.1//NONSGML v1.0//EN
CALSCALE:GREGORIAN
METHOD:PUBLISH
X-WR-CALNAME:Świdnicki Ośrodek Kultury
X-ORIGINAL-URL:https://sok.com.pl
X-WR-CALDESC:Wydarzenia na Świdnicki Ośrodek Kultury
BEGIN:VTIMEZONE
TZID:Europe/Warsaw
BEGIN:DAYLIGHT
TZOFFSETFROM:+0100
TZOFFSETTO:+0200
TZNAME:CEST
DTSTART:20260329T010000
END:DAYLIGHT
BEGIN:STANDARD
TZOFFSETFROM:+0200
TZOFFSETTO:+0100
TZNAME:CET
DTSTART:20261025T010000
END:STANDARD
END:VTIMEZONE
BEGIN:VEVENT
DTSTART;TZID=Europe/Warsaw:20260815T100000
DTEND;TZID=Europe/Warsaw:20260815T170000
DTSTAMP:20260423T113640
CREATED:20260415T103309Z
LAST-MODIFIED:20260416T070406Z
UID:44253-1786788000-1786813200@sok.com.pl
SUMMARY:Świdnickie Spotkania Akwarelowe: MASSIMILIANO IOCCO
DESCRIPTION:bilety wyprzedane \nMassimiliano Iocco: „Światło Italii”\n(przewidziana jest godzinna przerwa w trakcie warsztatów)\n \nJak przygotować się na warsztaty (sugestie prowadzącego):\nPapier\nMój papier to zwykle rough paper lub cold pressed Arches 300 g lub Baohong 300 g.\nInne marki są OK.\nPrzybory\n• Butelka z rozpylaczem\n• Chusteczka / papierowy ręcznik\n• Taśma papierowa\n• Nóż malarski (ma kilka różnych kątów ostrza)\n• Ołówek HB\n• Paleta do akwareli (dowolny model jest OK)\n• Chłonna szmatka\n• farby akwarelowe (dowolna marka jest OK\, ja preferuję w tubkach firmy Holbein\, W&N\, DS\, Schmincke\, Mijello)\nMoje kolory w palecie (możesz używać tych\, które wolisz)\n• Sepia – Holbein\n• Burnt Sienna – W&N\n• Raw Sienna – W&N\n• New Gamboge – W&N\n• Raw Umber – Mijello\n• French Ultramarine Blue – Mijello\n• Cobalt Blue – W&N\n• Alizarine Crimson – W&N\n• Red Brown – Mijello\n• Opera Rose – Mijello\n• Neutral Tint\n• Titanium White\n• Jaune Brilliant 1 – Holbein\n• Jaune Brilliant 2 – Holbein\n• Lavender – Holbein\n• Verditer Blue – Holbein\n• Horizon Blue – Holbein\n• Green Gray – Holbein\n• Translucent Orange – Schmincke\n• Pyrrole Red\n• Ultramarine Violet – W&N\n• Black Vine\nPędzle\n• Pędzel okrągły wiewiórczy lub syntetyczny (dowolna marka\, różne rozmiary: mały\, średni i duży; naturalny lub syntetyczny – oba są OK)\n• Pędzel płaski (ok. 4 cm szerokości)\n• Pędzel chiński (różne rozmiary: mały\, średni\, duży) – pędzle chińskie są moimi ulubionymi\n• Pędzel rigger\nO prowadzącym: \nMassimiliano Iocco\nWłoski akwarelista mieszkający w Rzymie. Od ponad 20 lat poświęca się malarstwu\, a szczególne miejsce w jego twórczości zajmuje praca w plenerze\, która wymaga intuicji\, szybkości i pełnej koncentracji na chwili.\nDla Iocco akwarela jest synonimem nieprzewidywalności\, dynamiki i świeżości. Woda pozostaje w jego pracach żywiołem wolnym — pozwala jej swobodnie płynąć\, naturalnie łączyć się z kolorem i przenikać papier\, tworząc spontaniczne\, pełne energii kompozycje.\nKierowany miłością do sztuki figuratywnej\, a w szczególności do akwareli\, nie podąża za nadmierną kontrolą ani skrajnie realistycznymi metodami\, które — jak uważa — nie oddają prawdziwej istoty malarstwa. Twórczość jest dla niego źródłem radości i osobistej satysfakcji.\nArtysta prowadzi szkołę akwareli oraz liczne warsztaty na całym świecie\, dzieląc się swoją wiedzą i doświadczeniem z kolejnymi pokoleniami malarzy.\nEksperymentowanie z nowymi tematami i materiałami przyniosło mu międzynarodową rozpoznawalność\, umożliwiając realizację dwóch pasji — akwareli i podróżowania — które od dzieciństwa stanowiły jego marzenie. Jak mówi Massimiliano: „Akwarela oferuje nieskończone możliwości; jest nieustannym poszukiwaniem.” \nInstagram: massimiliano_iocco\nwww.facebook.com/MassimilianoIoccoWatercolor/ \nZakup biletu na warsztat jest równoznaczny z akceptacją regulaminu imprezy.
URL:https://sok.com.pl/wydarzenie/swidnickie-spotkania-akwarelowe-massimiliano-iocco/
LOCATION:Klub Bolko\, pl. Grunwaldzki 11\, Świdnica\, Dolnośląskie\, 58-100\, Polska
CATEGORIES:Warsztaty
ATTACH;FMTTYPE=image/png:https://sok.com.pl/wp-content/uploads/2026/04/Warsztaty_Massimiliano-Iocco.png
ORGANIZER;CN="%C5%9Awidnicki%20O%C5%9Brodek%20Kultury":MAILTO:sok@sok.com.pl
END:VEVENT
END:VCALENDAR