BEGIN:VCALENDAR
VERSION:2.0
PRODID:-//Świdnicki Ośrodek Kultury - ECPv5.5.0.1//NONSGML v1.0//EN
CALSCALE:GREGORIAN
METHOD:PUBLISH
X-WR-CALNAME:Świdnicki Ośrodek Kultury
X-ORIGINAL-URL:https://sok.com.pl
X-WR-CALDESC:Wydarzenia na Świdnicki Ośrodek Kultury
BEGIN:VTIMEZONE
TZID:Europe/Warsaw
BEGIN:DAYLIGHT
TZOFFSETFROM:+0100
TZOFFSETTO:+0200
TZNAME:CEST
DTSTART:20260329T010000
END:DAYLIGHT
BEGIN:STANDARD
TZOFFSETFROM:+0200
TZOFFSETTO:+0100
TZNAME:CET
DTSTART:20261025T010000
END:STANDARD
END:VTIMEZONE
BEGIN:VEVENT
DTSTART;TZID=Europe/Warsaw:20260814T133000
DTEND;TZID=Europe/Warsaw:20260814T193000
DTSTAMP:20260421T121543
CREATED:20260415T070401Z
LAST-MODIFIED:20260416T071214Z
UID:44247-1786714200-1786735800@sok.com.pl
SUMMARY:Świdnickie Spotkania Akwarelowe: IZABELLA RAMSZA
DESCRIPTION:bilety wyprzedane\n\nIzabella Ramsza: „Światło\, kolor\, forma w akwareli”\n \nJak przygotować się na warsztaty (sugestie prowadzącego):\n– sztywny podkład na którym da się przykleić papier akwarelowy \n (nie maluję na bloku ponieważ używam dużo wody i bloki tego nie wytrzymują)\n– 1 sztuka papieru akwarelowego bawełna 100%\, Cold Press\, gramatura 300g\, kartka z bloku 30/40 cm\, 2 sztuki papieru akwarelowego w formacie 15/15 cm na miniaturki którymi rozpoczniemy warsztaty\n– Farby akwarelowe które lubimy\, fajnie jakby dodatkowo znalazł się jakiś kolor pomarańczowy\, turkus\, lawenda\, szarość ciepła no i oczywiście śliwka Aquarius nr 369. Kolory które podałam mogą być w kosteczkach\n– Pędzel płaski 5 cm\, jeden okrągły taki który trzyma wodę\, dwa okrągłe średni i mniejszy…….resztę jak kto lubi. Okrągłe używam Roman Szmal Seria 911 i Czarna Perła 14. Można mieć inne ale mniej więcej w podobnej wielkości do moich \n– Taśma malarska szerokość 2 cm \n– Paletą do mieszania farb \n– Dwa pojemniki na wodę \n– Ręczniki papierowe najlepiej białe bez kolorowych nadruków \n– Spryskiwacz na wodę ale taki który daje mgiełkę\, taki malutki jak jest Rossmanie wystarczy \n– Ołówek HB i gumka   \n– Otwartą głowę\, dużo humoru i pozytywne nastawienie\n \nIzabella Ramsza\nPolska artystka specjalizująca się w technice akwareli. Absolwentka Szkoły Głównej Handlowej w Warszawie oraz studiów podyplomowych na Wydziale Malarstwa i Rysunku Akademii Sztuk Pięknych w Łodzi. Członkini Stowarzyszenia Akwarelistów Polskich (SAP). Tworzy przede wszystkim pejzaże\, martwe natury oraz portrety zwierząt. W jej pracach kluczową rolę odgrywa światło oraz budowanie wyrazu poprzez mocne kontrasty. Jest kolorystką\, chętnie operującą intensywną barwą\, choć nie stroni również od kompozycji monochromatycznych. Równolegle realizuje się w innych technikach malarskich i rysunkowych. Jej prace znajdują się w kolekcjach prywatnych w Polsce i za granicą.\nJest aktywną uczestniczką plenerów i wystaw akwarelowych w kraju oraz poza jego granicami. Brała udział m.in. w wystawach Stowarzyszenia Akwarelistów Polskich\, w projekcie „Królewskie Gniezno w Akwareli” na zaproszenie Galerii Farna\, w Bieszczadzkim Centrum Dziedzictwa Kulturowego „FANTO”\, a także w wystawach Europejskiej Konfederacji Stowarzyszeń Akwarelowych (ECWS) w Bilbao\, Dublinie i Tampere. Jej prace prezentowano również w Perth w Australii na zaproszenie Stowarzyszenia Australii Zachodniej oraz podczas międzynarodowego wydarzenia Fabriano in Aquarello we Włoszech.\n \nInstagram: izabellaramsza.art\nhttps://www.facebook.com/Izabella.Ramsza\n \nZakup biletu na warsztat jest równoznaczny z akceptacją regulaminu imprezy.
URL:https://sok.com.pl/wydarzenie/swidnickie-spotkania-akwarelowe-izabella-ramsza/
LOCATION:Galeria Fotografii\, Rynek 44\, Świdnica\, Dolnośląskie\, 58-100\, Polska
CATEGORIES:Warsztaty
ATTACH;FMTTYPE=image/png:https://sok.com.pl/wp-content/uploads/2026/04/Warsztaty_Izabella-Ramsza.png
ORGANIZER;CN="%C5%9Awidnicki%20O%C5%9Brodek%20Kultury":MAILTO:sok@sok.com.pl
END:VEVENT
END:VCALENDAR