BEGIN:VCALENDAR
VERSION:2.0
PRODID:-//Świdnicki Ośrodek Kultury - ECPv5.5.0.1//NONSGML v1.0//EN
CALSCALE:GREGORIAN
METHOD:PUBLISH
X-WR-CALNAME:Świdnicki Ośrodek Kultury
X-ORIGINAL-URL:https://sok.com.pl
X-WR-CALDESC:Wydarzenia na Świdnicki Ośrodek Kultury
BEGIN:VTIMEZONE
TZID:Europe/Warsaw
BEGIN:DAYLIGHT
TZOFFSETFROM:+0100
TZOFFSETTO:+0200
TZNAME:CEST
DTSTART:20250330T010000
END:DAYLIGHT
BEGIN:STANDARD
TZOFFSETFROM:+0200
TZOFFSETTO:+0100
TZNAME:CET
DTSTART:20251026T010000
END:STANDARD
END:VTIMEZONE
BEGIN:VEVENT
DTSTART;TZID=Europe/Warsaw:20250228T193000
DTEND;TZID=Europe/Warsaw:20250228T210000
DTSTAMP:20260421T064324
CREATED:20250108T124142Z
LAST-MODIFIED:20250119T180021Z
UID:39352-1740771000-1740776400@sok.com.pl
SUMMARY:ŚWIDNICKIE NOCE JAZZOWE: S.E.A. TRIO feat. DAVE DOUGLAS
DESCRIPTION:KUP BILET\nbilety: 70 zł (przedsprzedaż) / 90 zł (w dniu wydarzenia) \n\nS.E.A. TRIO feat. DAVE DOUGLAS \nDave Douglas – trąbka\nDominik Bukowski – wibrafon\nPiotr Lemańczyk – kontrabas\nKrzysztof Gradziuk – perkusja \nDave Douglas to legendarny trębacz\, kompozytor\, producent\, wydawca\, autor muzycznego podcastu\, a przede wszystkim improwizator. Ma ugruntowaną pozycję jako czołowy trębacz swojego pokolenia. Od 2000 roku aż trzynastokrotnie zdobył tytuł Trębacza Roku w sondażu krytyków magazynu DownBeat. Już w wieku pięciu lat rozpoczął naukę gry na fortepianie\, w wieku siedmiu lat uczył się gry na puzonie\, a jako dziesięciolatek odkrył trąbkę. Pierwsze próby muzyki improwizowanej podjął jako student w Barcelonie. Studiował w Bostonie w latach 1981–1983 w Berklee College of Music i New England Conservatory of Music\, a w 1984 roku przeniósł się do Nowego Jorku\, gdzie kształcił się na New York University pod kierunkiem takich pedagogów jak Carmine Caruso. W 1987 roku odbył tournée po Europie z Horacem Silverem. Koncertował z zespołem klezmerskim Dona Byrona\, kwartetem Johna Zorna oraz formacją Masada. Współpracował z wieloma wybitnymi artystami\, m.in. Timem Berne’em\, Anthonym Braxtonem\, Myrą Melford\, Hanem Benninkiem\, Joe Lovano\, Martialem Solalem i Vincentem Herringiem. \nS.E.A. Trio (Sonorism\, Expression\, Asceticism) to zespół muzycznych indywidualności wykonujący autorskie kompozycje. Muzykę tria charakteryzuje z jednej strony ekspresja i energia wynikające z równorzędnego traktowania wibrafonu\, kontrabasu i perkusji\, a z drugiej przestrzeń i asceza. Wszystko to okraszone jest bogactwem i różnorodnością brzmień. Każdy członek zespołu wnosi swoje doświadczenia\, zdobyte dzięki wieloletniej pracy ze sztuką\, zwłaszcza w świecie muzyki improwizowanej. Trio nawiązuje do klasycznych form i harmonii jazzowych oraz muzyki współczesnej\, a ich utwory cechuje zmienność barw dźwięku\, co odwołuje się do sonoryzmu. Inspiracją dla tria jest także muzyka ludowa\, której wpływ można dostrzec w ich kompozycjach. Nazwa zespołu oznacza morze – symbol różnorodności i przygody\, co znajduje odbicie w ich koncertach. Premiera najnowszej płyty „INFLOW” odbyła się 15 marca 2024 roku na festiwalu Jazz Jantar. \nDominik Bukowski to absolwent Akademii Muzycznej w Katowicach. W latach 2020–2024 był corocznie uznawany za najlepszego wibrafonistę w ankiecie Jazz Top magazynu Jazz Forum. Zdobył indywidualne wyróżnienie na II Ogólnopolskim Przeglądzie Młodych Zespołów Jazzowych w Gdyni oraz I miejsce w konkursie Bielskiej Zadymki Jazzowej. Jest autorem ośmiu autorskich płyt i współautorem ponad pięćdziesięciu albumów. Jego płyty „Projektor” oraz „Sufia” nagrana z Amirem ElSaffarem znalazły się w pierwszej dziesiątce najlepszych płyt roku według magazynu Jazz Forum. Album „Vice Versa” został nominowany do nagrody Fryderyk\, a płyta „Melisa” wyprodukowana przez Leszka Możdżera zdobyła Złotą Płytę. Bukowski współpracował z artystami takimi jak Amir ElSaffar\, Tim Hagans\, Soweto Kinch\, Nigel Kennedy\, Leszek Możdżer\, Zbigniew Namysłowski\, Jan „Ptaszyn” Wróblewski i Krystyna Stańko. Koncertował m.in. w Kanadzie\, Indonezji\, Izraelu\, Kazachstanie oraz w wielu krajach Europy. \nPiotr Lemańczyk to jeden z najwybitniejszych europejskich kontrabasistów jazzowych. Karierę rozpoczął w 1993 roku jako członek zespołu Orange Trane\, który w 1995 roku zdobył II miejsce na konkursie Jazz Juniors w Krakowie. Lemańczyk został wówczas nagrodzony za indywidualność\, kompozycję i jako najlepszy instrumentalista festiwalu. W 1996 roku przeprowadził się do Gdańska\, gdzie współpracował z takimi artystami jak Maciej Sikała\, Emil Kowalski\, Wojciech Staroniewicz i Leszek Dranicki. Występował na festiwalu Jazz nad Odrą\, zdobywając nagrodę za najlepszą kompozycję\, oraz na Pomorskiej Jesieni Jazzowej\, gdzie z zespołem Orange Trane otrzymał „Klucz do Kariery”. Wkrótce potem zaczął koncertować z legendami polskiego jazzu\, m.in. Janem Ptaszynem Wróblewskim\, Januszem Muniakiem i Zbigniewem Namysłowskim. \nKrzysztof Gradziuk\, absolwent Instytutu Jazzu Akademii Muzycznej w Katowicach\, w 2003 roku zdobył stypendium Hochschule für Musik und Theater w Lipsku\, a w 2004 roku uczestniczył w Summer Jazz Workshop w USA pod kierunkiem Johna Rileya i Steve’a Davisa. W 2004 roku otrzymał również stypendium Ministra Kultury i Sztuki. Od 2001 roku jest członkiem tria fortepianowego RGG\, jednego z czołowych polskich zespołów jazzowych. Współpracuje m.in. z Anną Gadt Quartet\, Gadt-Chojnacki-Gradziuk Trio oraz Grzech Piotrowski World Orchestra. W latach 2016–2018 występował z Tomaszem Stańko w jego ostatnim polskim kwartecie. Gradziuk był wykładowcą w Akademii Muzycznej w Katowicach\, a obecnie jest nauczycielem na Wydziale Jazzu w ZPSM w Warszawie oraz Policealnym Studium Jazzu im. Henryka Majewskiego. W 2019 roku uzyskał stopień doktora sztuki. Znany jako esteta perkusyjnego brzmienia i kreator melodii\, Gradziuk jest uznawany za jednego z najbardziej oryginalnych perkusistów współczesnej europejskiej sceny jazzowej.
URL:https://sok.com.pl/wydarzenie/swidnickie-noce-jazzowe-s-e-a-trio-feat-dave-douglas/
LOCATION:Świdnicki Ośrodek Kultury\, Rynek 43\, Świdnica\, Dolnośląskie\, 58-100\, Polska
CATEGORIES:Koncerty
ATTACH;FMTTYPE=image/jpeg:https://sok.com.pl/wp-content/uploads/2025/01/arte_plakat_70x100cm_SEAtrio_ft_DOUGLAS_2025-01-15.jpg
END:VEVENT
END:VCALENDAR