BEGIN:VCALENDAR
VERSION:2.0
PRODID:-//Świdnicki Ośrodek Kultury - ECPv5.5.0.1//NONSGML v1.0//EN
CALSCALE:GREGORIAN
METHOD:PUBLISH
X-WR-CALNAME:Świdnicki Ośrodek Kultury
X-ORIGINAL-URL:https://sok.com.pl
X-WR-CALDESC:Wydarzenia na Świdnicki Ośrodek Kultury
BEGIN:VTIMEZONE
TZID:Europe/Warsaw
BEGIN:DAYLIGHT
TZOFFSETFROM:+0100
TZOFFSETTO:+0200
TZNAME:CEST
DTSTART:20240331T010000
END:DAYLIGHT
BEGIN:STANDARD
TZOFFSETFROM:+0200
TZOFFSETTO:+0100
TZNAME:CET
DTSTART:20241027T010000
END:STANDARD
END:VTIMEZONE
BEGIN:VEVENT
DTSTART;VALUE=DATE:20240316
DTEND;VALUE=DATE:20240318
DTSTAMP:20260422T034315
CREATED:20240227T112608Z
LAST-MODIFIED:20240227T112956Z
UID:36023-1710547200-1710719999@sok.com.pl
SUMMARY:ŚWIDNICKI FESTIWAL PODRÓŻNIKÓW I ODKRYWCÓW: SPACERY TEMATYCZNE
DESCRIPTION:W ramach Świdnicki Festiwal Podróżników i Odkrywców „Kolumby” zapraszamy na dwa pasjonujące spacery tematyczne! \nSpacer śladem murów obronnych //16 marca sobota / start godz. 12.00 miejsce zbiórki pl. Grunwaldzki przy pomniku\nSpacer po Kościół Pokoju w Świdnicy // 17 marca niedziela / start 11.30 zbiórka przed kościołem\nzapisy na maila sok@sok.com.pl / liczba miejsc ograniczona \nPodczas spaceru po Świdnicy poszukamy pozostałości dawnych murów obronnych. Poznamy główne wejścia do średniowiecznego miasta i odkryjemy związane z nimi tajemnice. Gdzie swoją siedzibę miał Bolko II Świdnicki\, kim był Jakub Tau\, gdzie pochowano księżną Agnieszkę i co znajdowało terenie dzisiejszego Ogrodu Różanego przy Alei Niepodległości? Na te i inne pytania odpowiemy sobie podczas świdnickiej wyprawy. \nSpacer poprowadzi Marzena Zięba – nauczycielka z powołania\, historyk\, regionalistka i pasjonatka podróży\, prowadzi m.in. profil na Instagramie @swidnica_atrakcyjnemiasto\, gdzie przedstawia historie i miejsca związane ze Świdnicą \n— \nPodczas naszej wędrówki po Kościele Pokoju w Świdnicy zanurzymy się w historii tego niezwykłego miejsca wpisanego na listę światowego dziedzictwa UNESCO. Dowiemy się\, jakie wyjątkowe okoliczności doprowadziły do powstania tego luterańskiego kościoła w czasach konfliktów religijnych. Poznamy historię jego budowy\, tajemnice kryjące się za jego unikatową architekturą oraz dowiemy się\, czemu miał być zbudowany tylko z drewna i gliny. Zastanowimy się\, kim byli ludzie\, którzy modlili się w tym kościele\, i jakie historie mogą opowiadać zabytkowe epitafia\, rzeźby i malowidła. \nSpacer poprowadzi Waldemar Pytel\, proboszcz kościoła i biskup diecezji wrocławskiej Kościoła Ewangelicko-Augsburskiego w Polsce. Pokaż mniej
URL:https://sok.com.pl/wydarzenie/swidnicki-festiwal-podroznikow-i-odkrywcow-spacery-tematyczne/
CATEGORIES:Inne
ATTACH;FMTTYPE=image/jpeg:https://sok.com.pl/wp-content/uploads/2024/02/Spacery-tematyczne.jpg
ORGANIZER;CN="%C5%9Awidnicki%20O%C5%9Brodek%20Kultury":MAILTO:sok@sok.com.pl
END:VEVENT
END:VCALENDAR