BEGIN:VCALENDAR
VERSION:2.0
PRODID:-//Świdnicki Ośrodek Kultury - ECPv5.5.0.1//NONSGML v1.0//EN
CALSCALE:GREGORIAN
METHOD:PUBLISH
X-WR-CALNAME:Świdnicki Ośrodek Kultury
X-ORIGINAL-URL:https://sok.com.pl
X-WR-CALDESC:Wydarzenia na Świdnicki Ośrodek Kultury
BEGIN:VTIMEZONE
TZID:Europe/Warsaw
BEGIN:DAYLIGHT
TZOFFSETFROM:+0100
TZOFFSETTO:+0200
TZNAME:CEST
DTSTART:20210328T010000
END:DAYLIGHT
BEGIN:STANDARD
TZOFFSETFROM:+0200
TZOFFSETTO:+0100
TZNAME:CET
DTSTART:20211031T010000
END:STANDARD
END:VTIMEZONE
BEGIN:VEVENT
DTSTART;VALUE=DATE:20211218
DTEND;VALUE=DATE:20211219
DTSTAMP:20260424T015037
CREATED:20211214T133435Z
LAST-MODIFIED:20211227T083908Z
UID:30539-1639785600-1639871999@sok.com.pl
SUMMARY:ŚWIĄTECZNE SŁUCHOWISKO
DESCRIPTION:Z okazji nadchodzących świąt przypominamy słuchowisko na podstawie „Klubu Pickwicka” Charlesa Dickensa. To „Wesoły rozdział o Bożym Narodzeniu” z tej słynnej powieści\, w którego nagraniu udział wzięli dyrekcja i pracownicy Świdnickiego Ośrodka Kultury. \nMamy nadzieję\, że ta pogodna dowcipna\, pełna uroku i ciepła historia będzie towarzyszyła Wam przez Święta — czy to w momencie ostatnich przygotowań i klejenia ostatnich pierogów\, czy odpoczynku po wigilijnej wieczerzy. Mamy też nadzieję\, że przysporzy ono trochę radości tym\, którzy ze względu na warunki nie mogą jej spędzić w rodzinnym gronie. \n\n  \ntranskrypcja słuchowiska \nw słuchowisku udział wzięli: Marta Ciućka\, Krzysztof Dix\, Krzysztof Kowalewski\, Mariusz Kozłowski\, Bożena Kuźma\, Bartosz Łabuda\, Anna Rudnicka\, Penelopa Rybarkiewicz-Szmajduch\, Halina Szymańska  \nadaptacja i reżyseria: Mariusz Kozłowski  \nrealizacja dźwięku i montaż słuchowiska: Paweł Zając
URL:https://sok.com.pl/wydarzenie/swiateczne-sluchowisko-2/
LOCATION:online
CATEGORIES:Literatura,Teatr
ATTACH;FMTTYPE=image/jpeg:https://sok.com.pl/wp-content/uploads/2021/12/Klub-Pickwicka-miniatura.jpg
ORGANIZER;CN="%C5%9Awidnicki%20O%C5%9Brodek%20Kultury":MAILTO:sok@sok.com.pl
END:VEVENT
END:VCALENDAR