BEGIN:VCALENDAR
VERSION:2.0
PRODID:-//Świdnicki Ośrodek Kultury - ECPv5.5.0.1//NONSGML v1.0//EN
CALSCALE:GREGORIAN
METHOD:PUBLISH
X-WR-CALNAME:Świdnicki Ośrodek Kultury
X-ORIGINAL-URL:https://sok.com.pl
X-WR-CALDESC:Wydarzenia na Świdnicki Ośrodek Kultury
BEGIN:VTIMEZONE
TZID:Europe/Warsaw
BEGIN:DAYLIGHT
TZOFFSETFROM:+0100
TZOFFSETTO:+0200
TZNAME:CEST
DTSTART:20230326T010000
END:DAYLIGHT
BEGIN:STANDARD
TZOFFSETFROM:+0200
TZOFFSETTO:+0100
TZNAME:CET
DTSTART:20231029T010000
END:STANDARD
END:VTIMEZONE
BEGIN:VEVENT
DTSTART;TZID=Europe/Warsaw:20231209T123000
DTEND;TZID=Europe/Warsaw:20231209T143000
DTSTAMP:20260421T200558
CREATED:20231109T134136Z
LAST-MODIFIED:20231109T134351Z
UID:35295-1702125000-1702132200@sok.com.pl
SUMMARY:ŚWIĄTECZNE FAMILIJNE WARSZTATY PLASTYCZNE
DESCRIPTION:KUP BILET \nbilety: 30 zł \nŚwidnicki Ośrodek Kultury serdecznie zaprasza na świąteczną edycję familijnych warsztatów plastycznych. W czasie zajęć wykonamy własnoręcznie lampiony\, które z pewnością pomogą w tworzeniu bożonarodzeniowej atmosfery\, mogą być też doskonałym prezentem „pod choinkę”. Warsztaty poprowadzą Penelopa Rybarkiewicz-Szmajduch i Marta Ciućka.
URL:https://sok.com.pl/wydarzenie/swiateczne-familijne-warsztaty-plastyczne-3/
LOCATION:sala lustrzana (Świdnicki Ośrodek Kultury)\, Rynek 43\, Świdnica\, Dolnośląskie\, 58-100\, Poland
CATEGORIES:Warsztaty
ATTACH;FMTTYPE=image/jpeg:https://sok.com.pl/wp-content/uploads/2023/11/Warsztaty-dla-dzieci_12-2023.jpg
ORGANIZER;CN="%C5%9Awidnicki%20O%C5%9Brodek%20Kultury":MAILTO:sok@sok.com.pl
END:VEVENT
END:VCALENDAR