BEGIN:VCALENDAR
VERSION:2.0
PRODID:-//Świdnicki Ośrodek Kultury - ECPv5.5.0.1//NONSGML v1.0//EN
CALSCALE:GREGORIAN
METHOD:PUBLISH
X-WR-CALNAME:Świdnicki Ośrodek Kultury
X-ORIGINAL-URL:https://sok.com.pl
X-WR-CALDESC:Wydarzenia na Świdnicki Ośrodek Kultury
BEGIN:VTIMEZONE
TZID:Europe/Warsaw
BEGIN:DAYLIGHT
TZOFFSETFROM:+0100
TZOFFSETTO:+0200
TZNAME:CEST
DTSTART:20230326T010000
END:DAYLIGHT
BEGIN:STANDARD
TZOFFSETFROM:+0200
TZOFFSETTO:+0100
TZNAME:CET
DTSTART:20231029T010000
END:STANDARD
END:VTIMEZONE
BEGIN:VEVENT
DTSTART;TZID=Europe/Warsaw:20231218T170000
DTEND;TZID=Europe/Warsaw:20231218T190000
DTSTAMP:20260421T083234
CREATED:20231109T114024Z
LAST-MODIFIED:20231123T115848Z
UID:35286-1702918800-1702926000@sok.com.pl
SUMMARY:STREFA RELAKSU: WARSZTATY PIERNIKOWE
DESCRIPTION:KUP BILET \nbilety: 30 zł \nZapraszamy serdecznie na warsztaty\, gdzie krok po kroku nauczysz się\, jak przygotować tradycyjne świąteczne pierniki. Odkryjemy sekrety idealnego ciasta\, nauczymy się dekorować pierniki w sposób\, który zachwyci Państwa bliskich. Będziemy wypiekać pierniki z wcześniej przygotowanego\, długo dojrzewającego ciasta. Po upieczeniu będziemy je ozdabiać\, a każdy uczestnik zajęć otrzyma przepis na wykonanie i wskazówki do samodzielnego przygotowania ciasta na staropolski\, długo dojrzewający piernik. Zapewniamy dobrą zabawę i niezapomniane doznania aromatyczne — cieszmy się magią wspólnego pieczenia! \nWarsztaty są otwarte dla każdego – nie potrzeba żadnych wcześniejszych doświadczeń. Wszystkie materiały zostaną zapewnione\, wystarczy przynieść dobry humor i świąteczną energię! \nJak zawsze nasze warsztaty prowadzą niezastąpieni uczestnicy Warsztatu Terapii Zajęciowej w Mokrzeszowie — PSONI Koło w Świdnicy. \nZajęcia wyjątkowo odbędą się w Centrum Wspierania Inicjatyw Społecznych\, Rynek 39/40.
URL:https://sok.com.pl/wydarzenie/strefa-relaksu-warsztaty-piernikowe/
LOCATION:Centrum Wspierania Inicjatyw Społecznych\, Rynek 39/40\, Świdnica\, Dolnośląskie\, 58-100\, Poland
CATEGORIES:Warsztaty
ATTACH;FMTTYPE=image/jpeg:https://sok.com.pl/wp-content/uploads/2023/11/B2_warsztaty_pierniki_18-12_2023.jpg
END:VEVENT
END:VCALENDAR