BEGIN:VCALENDAR
VERSION:2.0
PRODID:-//Świdnicki Ośrodek Kultury - ECPv5.5.0.1//NONSGML v1.0//EN
CALSCALE:GREGORIAN
METHOD:PUBLISH
X-WR-CALNAME:Świdnicki Ośrodek Kultury
X-ORIGINAL-URL:https://sok.com.pl
X-WR-CALDESC:Wydarzenia na Świdnicki Ośrodek Kultury
BEGIN:VTIMEZONE
TZID:Europe/Warsaw
BEGIN:DAYLIGHT
TZOFFSETFROM:+0100
TZOFFSETTO:+0200
TZNAME:CEST
DTSTART:20230326T010000
END:DAYLIGHT
BEGIN:STANDARD
TZOFFSETFROM:+0200
TZOFFSETTO:+0100
TZNAME:CET
DTSTART:20231029T010000
END:STANDARD
END:VTIMEZONE
BEGIN:VEVENT
DTSTART;TZID=Europe/Warsaw:20230320T170000
DTEND;TZID=Europe/Warsaw:20230320T190000
DTSTAMP:20260421T095029
CREATED:20230306T090412Z
LAST-MODIFIED:20230310T121758Z
UID:33733-1679331600-1679338800@sok.com.pl
SUMMARY:STREFA RELAKSU - WARSZTATY DOT PAINTING
DESCRIPTION:KUP BILET \n  \nŚwidnicki Ośrodek Kultury zaprasza na Warsztaty DOT PAINTING dla dzieci 8+\, młodzieży i dorosłych.\n20 marca\, godz. 17.00\nKlub Bolko \nKoszt udziału w warsztatach 30 zł\nbilety do nabycia w kasie ŚOK lub online: bilety.sok.com.pl \n\n\nDot painting\, czyli malarstwo kropkowe\, to technika malowania\, w której na powierzchnię nakłada się kolorowe punkty\, tworząc wzory i obrazy. Technika ta ma swoje korzenie w sztuce aborygeńskiej i była tradycyjnie stosowana w Australii do tworzenia malarstwa sakralnego oraz zdobienia ciał podczas ceremonii. Współcześnie dot painting jest popularną formą sztuki wizualnej\, którą stosuje się na różnych powierzchniach\, takich jak płótno\, drewno\, ceramika czy tkaniny. Często wykorzystuje się ją do tworzenia abstrakcyjnych kompozycji\, wzorów geometrycznych\, a także przedstawień roślin\, zwierząt i postaci ludzkich. Technika ta wymaga dużo cierpliwości i precyzji\, ponieważ każdy punkt jest nakładany ręcznie przy użyciu specjalnych narzędzi\, ale jednocześnie daje niezwykle wiele satysfakcji. Dot painting jest także często wykorzystywana w terapii sztuką jako forma relaksacji i medytacji. \n\n\nZajęcia poprowadzą uczestnicy Warsztatu Terapii Zajęciowej w Mokrzeszowie – PSONI Koło w Świdnicy \n 
URL:https://sok.com.pl/wydarzenie/strefa-relaksu-warsztaty-dot-painting/
LOCATION:Klub Bolko\, pl. Grunwaldzki 11\, Świdnica\, Dolnośląskie\, 58-100\, Polska
CATEGORIES:Warsztaty
ATTACH;FMTTYPE=image/jpeg:https://sok.com.pl/wp-content/uploads/2023/03/painting.jpg
ORGANIZER;CN="%C5%9Awidnicki%20O%C5%9Brodek%20Kultury":MAILTO:sok@sok.com.pl
END:VEVENT
END:VCALENDAR