BEGIN:VCALENDAR
VERSION:2.0
PRODID:-//Świdnicki Ośrodek Kultury - ECPv5.5.0.1//NONSGML v1.0//EN
CALSCALE:GREGORIAN
METHOD:PUBLISH
X-WR-CALNAME:Świdnicki Ośrodek Kultury
X-ORIGINAL-URL:https://sok.com.pl
X-WR-CALDESC:Wydarzenia na Świdnicki Ośrodek Kultury
BEGIN:VTIMEZONE
TZID:Europe/Warsaw
BEGIN:DAYLIGHT
TZOFFSETFROM:+0100
TZOFFSETTO:+0200
TZNAME:CEST
DTSTART:20240331T010000
END:DAYLIGHT
BEGIN:STANDARD
TZOFFSETFROM:+0200
TZOFFSETTO:+0100
TZNAME:CET
DTSTART:20241027T010000
END:STANDARD
END:VTIMEZONE
BEGIN:VEVENT
DTSTART;TZID=Europe/Warsaw:20240527T170000
DTEND;TZID=Europe/Warsaw:20240527T190000
DTSTAMP:20260424T020738
CREATED:20240503T132635Z
LAST-MODIFIED:20240527T130126Z
UID:36704-1716829200-1716836400@sok.com.pl
SUMMARY:STREFA RELAKSU: WARSZTATY BIŻUTERII
DESCRIPTION:KUP BILET \nZapraszamy serdecznie na kreatywne warsztaty biżuterii i ozdób! Przyłącz się do nas\, by nauczyć się\, jak własnoręcznie stworzyć unikatową biżuterię i dodatki (przede wszystkim bransoletki i kolczyki)\, które dodadzą blasku każdej stylizacji. \nNasi wyjątkowi prowadzący to to pełni pasji i entuzjazmu uczestnicy Warsztatu Terapii Zajęciowej w Mokrzeszowie — PSONI Koło w Świdnicy. \n 
URL:https://sok.com.pl/wydarzenie/strefa-relaksu-warsztaty-bizuterii/
LOCATION:Klub Bolko\, pl. Grunwaldzki 11\, Świdnica\, Dolnośląskie\, 58-100\, Polska
CATEGORIES:Warsztaty
ATTACH;FMTTYPE=image/jpeg:https://sok.com.pl/wp-content/uploads/2024/05/B2_warsztaty_27-05-2024.jpg
ORGANIZER;CN="%C5%9Awidnicki%20O%C5%9Brodek%20Kultury":MAILTO:sok@sok.com.pl
END:VEVENT
END:VCALENDAR