BEGIN:VCALENDAR
VERSION:2.0
PRODID:-//Świdnicki Ośrodek Kultury - ECPv5.5.0.1//NONSGML v1.0//EN
CALSCALE:GREGORIAN
METHOD:PUBLISH
X-WR-CALNAME:Świdnicki Ośrodek Kultury
X-ORIGINAL-URL:https://sok.com.pl
X-WR-CALDESC:Wydarzenia na Świdnicki Ośrodek Kultury
BEGIN:VTIMEZONE
TZID:Europe/Warsaw
BEGIN:DAYLIGHT
TZOFFSETFROM:+0100
TZOFFSETTO:+0200
TZNAME:CEST
DTSTART:20210328T010000
END:DAYLIGHT
BEGIN:STANDARD
TZOFFSETFROM:+0200
TZOFFSETTO:+0100
TZNAME:CET
DTSTART:20211031T010000
END:STANDARD
END:VTIMEZONE
BEGIN:VEVENT
DTSTART;TZID=Europe/Warsaw:20210708T213000
DTEND;TZID=Europe/Warsaw:20210708T233000
DTSTAMP:20260420T032620
CREATED:20210630T103109Z
LAST-MODIFIED:20210708T073328Z
UID:29269-1625779800-1625787000@sok.com.pl
SUMMARY:SPEKTRUM W PLENERZE: „EMA” [zmiana miejsca]
DESCRIPTION:Ze względu na niesprzyjające warunki pogodowe pokaz filmu „Ema” odbędzie się w Galerii Fotografii (Rynek 44). \nZapowiedzią tegorocznej edycji SPEKTRUM będą dwie plenerowe projekcje filmowe na świdnickim Rynku! Będziemy grać tytułu z ubiegłorocznego programu\, których nie udało się pokazać z uwagi na hybrydową formę festiwalu\, którą musieliśmy przyjąć. Zapraszamy więc wszystkich tych\, którzy nie widzieli lub chcą zobaczyć ponownie. \nW programie:\n8 lipca\, godz. 21:30\, „Ema”\, reż. Pablo Larrain \n\n  \nJuż teraz zapraszamy też na kolejny pokaz: 12 sierpnia\, godz. 20:30\, „Lekcja miłości”\, reż. Małgorzata Goliszewska\, Katarzyna Mateja
URL:https://sok.com.pl/wydarzenie/spektrum-w-plenerze-ema/
LOCATION:Rynek\, Rynek\, Świdnica\, Dolnośląskie\, 58-100
CATEGORIES:Film
ATTACH;FMTTYPE=image/jpeg:https://sok.com.pl/wp-content/uploads/2021/06/205583879_1583773561828476_8069714029292951195_n.jpg
END:VEVENT
END:VCALENDAR