BEGIN:VCALENDAR
VERSION:2.0
PRODID:-//Świdnicki Ośrodek Kultury - ECPv5.5.0.1//NONSGML v1.0//EN
CALSCALE:GREGORIAN
METHOD:PUBLISH
X-WR-CALNAME:Świdnicki Ośrodek Kultury
X-ORIGINAL-URL:https://sok.com.pl
X-WR-CALDESC:Wydarzenia na Świdnicki Ośrodek Kultury
BEGIN:VTIMEZONE
TZID:Europe/Warsaw
BEGIN:DAYLIGHT
TZOFFSETFROM:+0100
TZOFFSETTO:+0200
TZNAME:CEST
DTSTART:20240331T010000
END:DAYLIGHT
BEGIN:STANDARD
TZOFFSETFROM:+0200
TZOFFSETTO:+0100
TZNAME:CET
DTSTART:20241027T010000
END:STANDARD
END:VTIMEZONE
BEGIN:VEVENT
DTSTART;VALUE=DATE:20240720
DTEND;VALUE=DATE:20240728
DTSTAMP:20260421T045922
CREATED:20250124T180431Z
LAST-MODIFIED:20250124T180431Z
UID:39537-1721433600-1722124799@sok.com.pl
SUMMARY:ŚNIADANIA NA TRAWIE
DESCRIPTION:Śniadania na Trawie to cykl letnich koncertów muzyki klasycznej na instrumentach historycznych\, odbywających się w malowniczych wsiach i miasteczkach Ziemi Świdnickiej. Każde wydarzenie ma niepowtarzalny charakter dzięki starannie dobranym\, zabytkowym lokalizacjom – kościołom\, pałacom i innym historycznym przestrzeniom\, które nadają muzyce wyjątkowy kontekst. Po koncertach uczestnicy mogą wziąć udział w kameralnym pikniku\, sprzyjającym rozmowom i wymianie wrażeń. Celem inicjatywy jest przybliżenie muzyki klasycznej osobom mieszkającym poza dużymi ośrodkami kulturalnymi\, dla których możliwość udziału w takim wydarzeniu jest rzadkością. Śniadania na Trawie łączą sztukę z lokalną historią i codziennym życiem\, tworząc przestrzeń do refleksji\, spotkań i obcowania z kulturą w jej najbardziej naturalnej formie. \n20.07 sobota\nPożarzysko | kościół św. Józefa 11:00\nśniadanie na trawie \nWolfgang Amadeus Mozart: Kwartet smyczkowy KV 173\nWolfgang Amadeus Mozart: Kwintet klarnetowy KV 581 \nÁLVARO IBORRA JIMÉNEZ & FRIENDS\nÁlvaro Iborra Jiménez klarnet\nKatarzyna Olszewska Szymon Strzelczyk skrzypce\nNatalia Reichert altówka\nMonika Hartmann wiolonczela \n21.07 niedziela\nMichałkowa | kościół św. Anny 12:30\nśniadanie na trawie \nAntonio Vivaldi: Sonata na wiolonczelę i basso continuo a-moll RV 44\nMichel Corrette: Sonata na wiolonczelę i basso continuo d-moll (Les délices de la solitude op. 20)\nGiovanni Benedetto Platti: Sonata na wiolonczelę i basso continuo g-moll nr 1\nMichel Corrette: Suita klawesynowa F-dur nr 3 (Premier Livre de Pièces pour le Clavecin op. 12)\nGiovanni Benedetto Platti: Sonata na wiolonczelę i basso continuo C-dur nr 3 \nMonika Hartmann wiolonczela\nNatalia Olczak klawesyn \n26.07 piątek\nGlinno | kościół Matki Bożej Bolesnej 21:00\nkoncert nocny \nJosef Rheinberger: Abendlied\nJosef Rheinberger: Cantus Missae: Kyrie – Gloria\nArvo Pärt: Most Holy Mother of God\nJosef Rheinberger: Credo\nAlonso Lobo: Versa est in luctum\nJosef Rheinberger: Sanctus-Benedictus\nWilliam Byrd: Ave verum\nJosef Rheinberger: Agnus Dei\nAndrea Gabrieli: O sacrum convivium\nArvo Pärt: Morning Star\nClaudio Monteverdi: Adoramus\nRobert Schumann: An die Sterne \nMagdalena Łukawska Antonina Ruda sopran\nIlona Szczepańska Łukasz Dulewicz alt\nDominik Czernik Piotr Szewczyk tenor\nSebatsian Szumski Przemysław Józef Bałka bas\nJan Tomasz Adamus dyrygent \n27.07 sobota\nZastruże 7B | kaplica mszalna Matki Boskiej Królowej Świata 22:00\nkoncert nocny \nMax Reger: Preludia i fugi na skrzypce solo \nRobert Bachara skrzypce \n \n 
URL:https://sok.com.pl/wydarzenie/sniadania-na-trawie/
LOCATION:Świdnicki Ośrodek Kultury\, Rynek 43\, Świdnica\, Dolnośląskie\, 58-100\, Polska
CATEGORIES:Muzyka
ATTACH;FMTTYPE=image/jpeg:https://sok.com.pl/wp-content/uploads/2025/01/FB2024_Poster_snt__page-00011-scaled.jpg
END:VEVENT
END:VCALENDAR