BEGIN:VCALENDAR
VERSION:2.0
PRODID:-//Świdnicki Ośrodek Kultury - ECPv5.5.0.1//NONSGML v1.0//EN
CALSCALE:GREGORIAN
METHOD:PUBLISH
X-WR-CALNAME:Świdnicki Ośrodek Kultury
X-ORIGINAL-URL:https://sok.com.pl
X-WR-CALDESC:Wydarzenia na Świdnicki Ośrodek Kultury
BEGIN:VTIMEZONE
TZID:Europe/Warsaw
BEGIN:DAYLIGHT
TZOFFSETFROM:+0100
TZOFFSETTO:+0200
TZNAME:CEST
DTSTART:20230326T010000
END:DAYLIGHT
BEGIN:STANDARD
TZOFFSETFROM:+0200
TZOFFSETTO:+0100
TZNAME:CET
DTSTART:20231029T010000
END:STANDARD
END:VTIMEZONE
BEGIN:VEVENT
DTSTART;TZID=Europe/Warsaw:20230319T160000
DTEND;TZID=Europe/Warsaw:20230319T170000
DTSTAMP:20260421T080158
CREATED:20230302T125721Z
LAST-MODIFIED:20230303T072242Z
UID:33707-1679241600-1679245200@sok.com.pl
SUMMARY:SKACZĄCA KRÓLEWNA - SPEKTAKL FAMILIJNY
DESCRIPTION:KUP BILET \nŚwidnicki Ośrodek Kultury i Teatr Bajka zapraszają na spektakl dla dzieci pt. „Skacząca królewna”. \n19 marca\, godz.16.00\nbilety 15 zł (SPRZEDAŻ OD 3 MARCA)\nsala teatralna Świdnickiego Ośrodka Kultury \n  \nTeatr Bajka działa od 20 lat\, to autorskie przedsięwzięcie Bożeny Oleszkiewicz — aktorki\, lalkarki\, piosenkarki i animatorki kultury\, związanej na co dzień z Teatrem Lalki i Aktora w Wałbrzychu. \nTeatr Bajka w swojej działalności koncentruje się na spektaklach dla młodszego widza. Stawia głównie na ożywczą moc martwych przedmiotów. Odwołuje się do dziecięcej wyobraźni i kreatywności. \n„Skacząca królewna” opowiada historię królewny\, która została ukarana przez złego czarodzieja za to\, że nie chciała zostać jego żoną. Jak to w bajkach bywa\, wszystko skończyło się szczęśliwie – bohaterkę z opresji wybawił dzielny i mądry królewicz\, który przechytrzył złego czarodzieja i uniknął małżeństwa z Babą Jagą. W nagrodę otrzymał rękę pięknej królewny Jarmilki\, a potem wszyscy żyli długo i szczęśliwie. Miłość zwycięża największe przeszkody. \nSpektakl jest realizowany w żywym planie\, a aktorzy doskonale łączą się w nim z lalkowymi postaciami. \nPrzedstawienia Teatru Bajka przeznaczone są dla dzieci od lat 3.
URL:https://sok.com.pl/wydarzenie/skaczaca-krolewna-spektakl-familijny/
LOCATION:Świdnicki Ośrodek Kultury\, Rynek 43\, Świdnica\, Dolnośląskie\, 58-100\, Polska
CATEGORIES:Teatr
ATTACH;FMTTYPE=image/jpeg:https://sok.com.pl/wp-content/uploads/2023/03/tlo-sok.jpg
END:VEVENT
END:VCALENDAR