BEGIN:VCALENDAR
VERSION:2.0
PRODID:-//Świdnicki Ośrodek Kultury - ECPv5.5.0.1//NONSGML v1.0//EN
CALSCALE:GREGORIAN
METHOD:PUBLISH
X-WR-CALNAME:Świdnicki Ośrodek Kultury
X-ORIGINAL-URL:https://sok.com.pl
X-WR-CALDESC:Wydarzenia na Świdnicki Ośrodek Kultury
BEGIN:VTIMEZONE
TZID:Europe/Warsaw
BEGIN:DAYLIGHT
TZOFFSETFROM:+0100
TZOFFSETTO:+0200
TZNAME:CEST
DTSTART:20200329T010000
END:DAYLIGHT
BEGIN:STANDARD
TZOFFSETFROM:+0200
TZOFFSETTO:+0100
TZNAME:CET
DTSTART:20201025T010000
END:STANDARD
END:VTIMEZONE
BEGIN:VEVENT
DTSTART;TZID=Europe/Warsaw:20200213T200000
DTEND;TZID=Europe/Warsaw:20200213T200000
DTSTAMP:20260421T081850
CREATED:20191212T134117Z
LAST-MODIFIED:20200124T083301Z
UID:23638-1581624000-1581624000@sok.com.pl
SUMMARY:RUBINOWE GODY [spektakl Wrocławski Teatr Komedia]
DESCRIPTION:KUP BILET \n  \nCzy po czterdziestu latach wspólnego życia wiemy wszystko o naszym partnerze? Nie chodzi tu nawet o jakieś skrywane tajemnice\, ale o jego nigdy niewypowiedziane pragnienia\, aspiracje czy preferencje. Grażyna i Marian po raz pierwszy w życiu wyjeżdżają razem do luksusowego hotelu\, by czterdziestą rocznicę ślubu uczcić inaczej\, niż wszystkie poprzednie.\nNie znają jednak praktycznego znaczenia słowa „luksus”\, co powoduje choćby problem z dostaniem się do pokoju\, czy awersję do egzotycznego – jak na ich gusta – menu w tutejszej restauracji. Wydawałoby się – standardowa sytuacja małżeństwa z prowincji. I z pewnością wspólny weekend dałoby się jakoś przecierpieć\, gdyby nie gość spod łóżka oraz portier\, który zależność pomiędzy państwem z- i spod łóżka definiuje jako erotyczny trójkąt\, będący odskocznią od szarej\, małżeńskiej codzienności\, starsi państwo zaczynają przebudowywać swoje życie (również jego sferę erotyczną) na nowo\, a portier Danny najchętniej zamieniłby trójkąt w czworokąt. Polityka miesza się z codziennym z życiem\, rodzinna sielanka z polityczną debatą. Kto wyjdzie obronną ręką z sytuacji\, która dla każdej ze stron jest – delikatnie mówiąc – niekomfortowa? \nSami zobaczcie. \nObsada:\nGrażyna: Małgorzata Szeptycka\nMarian: Paweł Okoński\nKtoś: Rafał Kwietniewski\nDanny: Radosław Kasiukiewicz \nCzas trwania: 100 minut + przerwa\nPremiera: 12.01.2020
URL:https://sok.com.pl/wydarzenie/rubinowe-gody-spektakl-wroclawski-teatr-komedia/
LOCATION:Świdnicki Ośrodek Kultury\, Rynek 43\, Świdnica\, Dolnośląskie\, 58-100\, Polska
CATEGORIES:Teatr
ATTACH;FMTTYPE=image/jpeg:https://sok.com.pl/wp-content/uploads/2019/12/Rubinowe-gody.jpg
END:VEVENT
END:VCALENDAR