BEGIN:VCALENDAR
VERSION:2.0
PRODID:-//Świdnicki Ośrodek Kultury - ECPv5.5.0.1//NONSGML v1.0//EN
CALSCALE:GREGORIAN
METHOD:PUBLISH
X-WR-CALNAME:Świdnicki Ośrodek Kultury
X-ORIGINAL-URL:https://sok.com.pl
X-WR-CALDESC:Wydarzenia na Świdnicki Ośrodek Kultury
BEGIN:VTIMEZONE
TZID:Europe/Warsaw
BEGIN:DAYLIGHT
TZOFFSETFROM:+0100
TZOFFSETTO:+0200
TZNAME:CEST
DTSTART:20190331T010000
END:DAYLIGHT
BEGIN:STANDARD
TZOFFSETFROM:+0200
TZOFFSETTO:+0100
TZNAME:CET
DTSTART:20191027T010000
END:STANDARD
END:VTIMEZONE
BEGIN:VEVENT
DTSTART;TZID=Europe/Warsaw:20191116T180000
DTEND;TZID=Europe/Warsaw:20191116T180000
DTSTAMP:20260421T183439
CREATED:20190925T091257Z
LAST-MODIFIED:20191115T084210Z
UID:22467-1573927200-1573927200@sok.com.pl
SUMMARY:RAPSODIA ŚWIDNICKA #7 [bitwa freestyle rap]
DESCRIPTION:Zapraszamy do udziału w Wielkiej Rapsodii Świdnickiej #7 – hip-hopowej bitwie freestyle nawiązującej nazwą do książki „Rapsodia świdnicka” autorstwa W.J. Grabskiego\, której wyjątkowy egzemplarz będzie dodatkową nagrodą dla zwycięzcy. \nKUP BILET \nFACEBOOK: strona / wydarzenie \nNAGRODY\nI miejsce: 1500 zł + voucher Dystrykt (100 zł) + krata piwa Hoppy Lab\nII miejsce: 100 zł + voucher Dystrykt (200 zł)\nIII miejsce: 100 zł + voucher Dystrykt (200 zł)\nIV miejsce: 100 zł + voucher Dystrykt (100 zł) \nPARTNERZY: Dystrykt + Hoppy Lab\nJURY: Pejter / Łoker / Madział\nPROWADZENIE: wkrótce\nPODKŁADY: Rad74Nice \nBILETY/WPISOWE:\n10 zł (do 30.09) / 20 zł (do 15.11) / 30 zł (w dniu imprezy) \nZGŁOSZENIA DO BITWY należy wysyłać najpóźniej do 15 listopada 2019 na adres: rapsodia@sok.com.pl wpisując w temacie maila: WRS7\, a w treści maila podając: \n1. ksywę\,\n2. miasto\,\n3. numer telefonu\, \nDOKUMENTY DO POBRANIA\nregulamin (.pdf)\nzałącznik 1 (zgoda opiekuna dla niepełnoletnich) (.pdf)
URL:https://sok.com.pl/wydarzenie/rapsodia7/
LOCATION:Klub Bolko\, pl. Grunwaldzki 11\, Świdnica\, Dolnośląskie\, 58-100\, Polska
CATEGORIES:Koncerty
ATTACH;FMTTYPE=image/png:https://sok.com.pl/wp-content/uploads/2019/09/WRŚ-7-zapowiedź-1.png
END:VEVENT
END:VCALENDAR