BEGIN:VCALENDAR
VERSION:2.0
PRODID:-//Świdnicki Ośrodek Kultury - ECPv5.5.0.1//NONSGML v1.0//EN
CALSCALE:GREGORIAN
METHOD:PUBLISH
X-WR-CALNAME:Świdnicki Ośrodek Kultury
X-ORIGINAL-URL:https://sok.com.pl
X-WR-CALDESC:Wydarzenia na Świdnicki Ośrodek Kultury
BEGIN:VTIMEZONE
TZID:Europe/Warsaw
BEGIN:DAYLIGHT
TZOFFSETFROM:+0100
TZOFFSETTO:+0200
TZNAME:CEST
DTSTART:20220327T010000
END:DAYLIGHT
BEGIN:STANDARD
TZOFFSETFROM:+0200
TZOFFSETTO:+0100
TZNAME:CET
DTSTART:20221030T010000
END:STANDARD
END:VTIMEZONE
BEGIN:VEVENT
DTSTART;TZID=Europe/Warsaw:20220403T180000
DTEND;TZID=Europe/Warsaw:20220403T180000
DTSTAMP:20260423T114140
CREATED:20200304T080029Z
LAST-MODIFIED:20210531T101213Z
UID:24492-1649008800-1649008800@sok.com.pl
SUMMARY:ZMIANA TERMINU - [PIOTR BAŁTROCZYK - Starość nie jest dla mięczaków]
DESCRIPTION:Po raz kolejny w związku z nadal obowiązującymi obostrzeniami (limit miejsc na sali) organizator zmuszony jest przesunąć występ Piotra Bałtroczyka. Nowy termin to 3 kwietnia 2022 r. Zakupione przez Państwa bilety zachowują ważność\, jeśli jednak nie możecie Państwo uczestniczyć w koncercie w jego nowym terminie otrzymacie Państwo pełen zwrot środków. W sprawie zwrotów prosimy o kontakt telefoniczny lub mailowy. \nKUP BILET \n  \nBałtroczyk twierdzi\, że początek jest ważny\, być może nawet ważniejszy od końca. Choć dobrze\, gdy koniec jest równie miły jak początek. Zatem ważne\, by dobrze zacząć. Bałtroczyk zaczyna niebanalnie od: „Dobry wieczór Państwu\, nazywam się Piotr Bałtroczyk i jestem atrakcją\, a Wy jesteście dla mnie atrakcją\, bez Was czułbym się jak w domu\, samotny i niepotrzebny”.\nTo właściwie jedyny powtarzalny fragment wieczoru\, w którym macie szansę uczestniczyć. Co nastąpi po: „Dobry wieczór Państwu”\, jest również zagadką dla Bałtroczyka.\nInwigilowany przez nadobną dziennikarkę (a jest na nadobność wrażliwy) przyznał kiedyś\,\nże ma głowie jakieś 7 godzin monologu i nieustanną zagadką jest dla niego\, co wybierze z tajemnych szufladek umysłu Bałtroczyk Estradowy.\nSą wciąż dla siebie zagadką\, Bałtroczyk Estradowy (BE) i Bałtroczyk Zwykły (BZ) i to być może\, utrzymuje jednego i drugiego w wysokiej dzielności bojowej\, mimo\, że każdy z nich z coraz większym przekonaniem może potwierdzić\, że starość nie jest dla mięczaków.\nZ BE – jak uprzejmy był się wyrazić Janusz Grzywacz – „słowa sypią się jak gówno z barana”.\nBZ zazwyczaj milcząc okupuje przytulny kącik w rogu\, oddając się lekturze bądź nałogom\, lub usiłując bezskutecznie oddać się nadobnej dziennikarce\, by w końcu jednak wybrać nałóg\, lekturę\, czy gitarę.\nRządy zmieniają się\, rozpada się Unia\, a na tym tle Bałtroczyk jawi się jak oaza stabilności.\nNie zmienia się od lat jego negatywny stosunek do garniturów\, które traktuje jak zawodowe zło konieczne. Stały jest też bałwochwalczy stosunek do ciężkich motocykli\, które ujeżdża w długich trasach. Wielbi obrazy Jana Stanisławskiego i akustyczne gitary ze szlachetnego drewna\, których twórcy też byli Mistrzami. Wiele jest rzeczy\, które Bałtroczyka interesują. Od budownictwa drewnianego na Warmii ukochanej\, przez nowe techniki szpachlowania\, do przystawek w Telecasterach. \nZobaczcie\, co się przydarzyło Bałtroczykowi\, od czasu Waszego ostatniego z Nim spotkania.\nWszystko jest inspiracją …\nTak powstają wciąż nowe fragmenty narodowej epopei …\nPosłuchajcie proszę kolejnej wersji opowieści Piotra Bałtroczyka … . \n 
URL:https://sok.com.pl/wydarzenie/piotr-baltroczyk-starosc-nie-jest-dla-mieczakow/
LOCATION:Świdnicki Ośrodek Kultury\, Rynek 43\, Świdnica\, Dolnośląskie\, 58-100\, Polska
CATEGORIES:Kabaret
ATTACH;FMTTYPE=image/jpeg:https://sok.com.pl/wp-content/uploads/2020/03/01_hd1.jpg
END:VEVENT
END:VCALENDAR