BEGIN:VCALENDAR
VERSION:2.0
PRODID:-//Świdnicki Ośrodek Kultury - ECPv5.5.0.1//NONSGML v1.0//EN
CALSCALE:GREGORIAN
METHOD:PUBLISH
X-WR-CALNAME:Świdnicki Ośrodek Kultury
X-ORIGINAL-URL:https://sok.com.pl
X-WR-CALDESC:Wydarzenia na Świdnicki Ośrodek Kultury
BEGIN:VTIMEZONE
TZID:Europe/Warsaw
BEGIN:DAYLIGHT
TZOFFSETFROM:+0100
TZOFFSETTO:+0200
TZNAME:CEST
DTSTART:20240331T010000
END:DAYLIGHT
BEGIN:STANDARD
TZOFFSETFROM:+0200
TZOFFSETTO:+0100
TZNAME:CET
DTSTART:20241027T010000
END:STANDARD
END:VTIMEZONE
BEGIN:VEVENT
DTSTART;TZID=Europe/Warsaw:20240223T173000
DTEND;TZID=Europe/Warsaw:20240223T173000
DTSTAMP:20260421T130110
CREATED:20231024T135359Z
LAST-MODIFIED:20231108T122944Z
UID:35158-1708709400-1708709400@sok.com.pl
SUMMARY:PIKANTNI [spektakl komediowy]
DESCRIPTION:KUP BILET \nbilety: 80\, 100\, 120\, 150 zł \nGorąca komedia obyczajowa\, która wykorzystuje znany schemat czworokąta. Wystawiana setki razy w całej Polsce – zawsze entuzjastycznie przyjmowana przez publiczność.  \nDwie znudzone sobą pary\, Alex i Doris oraz Bea i Christoph\, szukają wrażeń\, by podnieść temperaturę swoich związków. Poznają się na portalu randkowym i umawiają na wspólną\, intymną schadzkę. \nBohaterowie\, podekscytowani pikantnym pomysłem urozmaicenia pożycia małżeńskiego\, nie spodziewają się\, co z tego wyniknie. Czy żądny nowych eksperymentów Alex\, jego sceptyczna żona Doris\, nowoczesna i rozwiązła Bea oraz jej monogamiczny mąż Christoph wiedzą\, na co się decydują? \nTo spotkanie będzie dopiero początkiem emocjonujących zmian w życiu całej czwórki. \nWartkie tempo\, humor sytuacyjny i błyskotliwe dialogi – to wszystko znajdziemy w komedii Stefana Vögla. „Pikantni” to materiał na fantastyczną zabawę\, niepozbawioną refleksji na temat nowoczesnego małżeństwa. Dawka zdrowego śmiechu z bezkrytycznej pogoni za wolnością. \n  \nObsada: \nBarbara Kurdej-Szatan/Monika Dryl/Dominika Kachlik \nMaurycy Popiel \nAnna Mucha \nMichał Ziembicki \n  \nSpektakl dla widzów od 18. roku życia \nCzas trwania: 100 minut z przerwą
URL:https://sok.com.pl/wydarzenie/pikantni-spektakl-komediowy/
LOCATION:Świdnicki Ośrodek Kultury\, Rynek 43\, Świdnica\, Dolnośląskie\, 58-100\, Polska
CATEGORIES:Teatr
ATTACH;FMTTYPE=image/jpeg:https://sok.com.pl/wp-content/uploads/2023/10/A4_Pikantni.jpg
END:VEVENT
END:VCALENDAR