BEGIN:VCALENDAR
VERSION:2.0
PRODID:-//Świdnicki Ośrodek Kultury - ECPv5.5.0.1//NONSGML v1.0//EN
CALSCALE:GREGORIAN
METHOD:PUBLISH
X-WR-CALNAME:Świdnicki Ośrodek Kultury
X-ORIGINAL-URL:https://sok.com.pl
X-WR-CALDESC:Wydarzenia na Świdnicki Ośrodek Kultury
BEGIN:VTIMEZONE
TZID:Europe/Warsaw
BEGIN:DAYLIGHT
TZOFFSETFROM:+0100
TZOFFSETTO:+0200
TZNAME:CEST
DTSTART:20260329T010000
END:DAYLIGHT
BEGIN:STANDARD
TZOFFSETFROM:+0200
TZOFFSETTO:+0100
TZNAME:CET
DTSTART:20261025T010000
END:STANDARD
END:VTIMEZONE
BEGIN:VEVENT
DTSTART;TZID=Europe/Warsaw:20260213T180000
DTEND;TZID=Europe/Warsaw:20260213T190000
DTSTAMP:20260421T071630
CREATED:20260202T091751Z
LAST-MODIFIED:20260202T091822Z
UID:43249-1771005600-1771009200@sok.com.pl
SUMMARY:Od bajki do pejzażu [wernisaż wystawy]
DESCRIPTION:Seniorki z Dziennego Domu „Senior +” po raz piąty zapraszają odbiorców do swojego świata – świata barw\, emocji i osobistych opowieści zamkniętych w obrazach. Jubileuszowa wystawa jest podsumowaniem pięciu lat pracy w pracowni malarstwa\, ale także kolejnym etapem artystycznej drogi\, którą panie konsekwentnie i z pasją podążają. \nTegoroczny temat wystawy jest szeroki i otwarty: „od bajki do pejzażu”. Pomiędzy tymi dwoma biegunami rozciąga się pełna swobody przestrzeń twórcza. Obok prac baśniowych\, nasyconych wyobraźnią i symboliką\, pojawiają się pejzaże – realne i wyśnione\, spokojne lub dynamiczne. Każdy obraz jest osobną historią\, zapisem nastroju\, wspomnienia lub myśli\, która w danym momencie domagała się wypowiedzenia kolorem i formą. \nSzczególne miejsce zajmują prace poruszające temat samotności. Jest to parafraza malarstwa Edwarda Hoppera z nutą autorskiej wypowiedzi malarek\, które w subtelny sposób mówią o człowieku zagubionym pośród innych ludzi\, o ciszy i pustce odczuwanej mimo obecności tłumu. To obrazy do zatrzymania się\, do refleksji\, do osobistego dialogu z widzem. \nWażną częścią ekspozycji są również prace powstałe podczas pleneru malarskiego\, realizowanego wspólnie z uczniami Niepublicznej Szkoły Podstawowej „Bliżej Dziecka”. Uczniowie należą do Koła Malarskiego prowadzonego przez Annę Misiewicz-Król. Międzypokoleniowe spotkanie zaowocowało wyjątkowymi\, wspólnie tworzonymi obrazami. Pierwszy wernisaż tych prac odbył się w murach szkoły\, natomiast obecna wystawa stanowi ich rewystawę – symboliczną kontynuację artystycznego dialogu pomiędzy młodszymi i starszymi twórcami. \nDla seniorek malarstwo nie jest jedynie zajęciem – jest spełnieniem. Przez wiele lat ich życie wypełniała praca zawodowa i wychowywanie dzieci. Na własną twórczość brakowało czasu\, przestrzeni i energii. Dopiero teraz\, po latach\, mogą pozwolić sobie na to\, co odkładały: na tworzenie\, kontemplację i zagłębianie się w sztukę. W pracowni malarstwa od pięciu lat uczą się słuchać siebie\, swoich emocji i myśli\, a następnie przekuwać je w obraz. \nTa wystawa jest dowodem na to\, że na twórczość nigdy nie jest za późno. Jest także świadectwem odwagi w sięganiu po własny głos oraz radości płynącej ze wspólnego tworzenia. Seniorki z Dziennego Domu „Senior +” pokazują\, że sztuka może stać się przestrzenią wolności\, spełnienia i cichej\, ale bardzo osobistej opowieści o życiu – opowieści\, która łączy pokolenia. \nOpiekun artystyczny mgr szt. Katarzyna Kamianowska \nAutorzy z Dziennego Domu „Senior +” ul. Saperów 27: \nDorota Balcerek\nMarta Bania\nMaria Elżbieciak\nIrena Janik\nTadeusz Majewski\nStanka Satirovska\nElżbieta Szydełko\nElżbieta Woźniacka \nAutorzy z Niepublicznej Szkoły Podstawowej „Bliżej Dziecka”: \nMarianna Bielecka\nZofia Jaworska\,\nDaria Kowalczyk\nKaja Mielcarek\,\nMaja Misiewicz\nPola Magoch\nOliwier Witek\nAniela Arczykowka\nHanna Izykowska\nNadia Nowakowska\nBarbara Stępień \nwstęp na wydarzenie jest wolny
URL:https://sok.com.pl/wydarzenie/od-bajki-do-pejzazu-wernisaz-wystawy/
LOCATION:Klub Bolko\, pl. Grunwaldzki 11\, Świdnica\, Dolnośląskie\, 58-100\, Polska
CATEGORIES:Wystawa
ATTACH;FMTTYPE=image/jpeg:https://sok.com.pl/wp-content/uploads/2026/02/B2_Od_bajki.jpg
END:VEVENT
END:VCALENDAR