BEGIN:VCALENDAR
VERSION:2.0
PRODID:-//Świdnicki Ośrodek Kultury - ECPv5.5.0.1//NONSGML v1.0//EN
CALSCALE:GREGORIAN
METHOD:PUBLISH
X-WR-CALNAME:Świdnicki Ośrodek Kultury
X-ORIGINAL-URL:https://sok.com.pl
X-WR-CALDESC:Wydarzenia na Świdnicki Ośrodek Kultury
BEGIN:VTIMEZONE
TZID:Europe/Warsaw
BEGIN:DAYLIGHT
TZOFFSETFROM:+0100
TZOFFSETTO:+0200
TZNAME:CEST
DTSTART:20220327T010000
END:DAYLIGHT
BEGIN:STANDARD
TZOFFSETFROM:+0200
TZOFFSETTO:+0100
TZNAME:CET
DTSTART:20221030T010000
END:STANDARD
END:VTIMEZONE
BEGIN:VEVENT
DTSTART;TZID=Europe/Warsaw:20220722T193000
DTEND;TZID=Europe/Warsaw:20220722T213000
DTSTAMP:20260421T183733
CREATED:20220629T090120Z
LAST-MODIFIED:20220630T075912Z
UID:31966-1658518200-1658525400@sok.com.pl
SUMMARY:NAT OSBORN BAND [KONCERT W RAMACH 29. ŚNJ]
DESCRIPTION:Świdnicki Ośrodek Kultury i agencja artystyczna -arte- Artur Janicki zapraszają na koncert Nat Osborn Band w ramach 29.ŚNJ. \n22.lipca (piątek-friday ) Godz.19.30\nKlub Łaźnia\, plac Ludowy 5 w Świdnicy. Wstęp wolny.\nMożliwość rezerwacji miejsc e-mail:\nklub.laznia@gmail.com \nPochodzący z Nowego Jorku Nat to niespokojna dusza. Studiował grę na tabli w Indiach. Grał na gitarze na ulicach\, pisał utwory na hiszpańskich balkonach. Wypełniał po brzegi miejsca koncertowe w całym Nowym Jorku\, został deportowany z Wielkiej Brytanii\, a to wszystko przed ukończeniem 25 roku życia. To naturalny i płodny kompozytor\, jego płynność w przechodzeniu przez gatunki ( jazz\, funk\, rock\, soul\, dance) tworzy niepowtarzalność i naprawdę oryginalny dźwięk. \nZ prawie dziesięcioletnim doświadczeniem performera\, tekściarza oraz lidera zespołu na swoim koncie\, w 2011 roku\, zebrał silny siedmioosobowy zespół „The Nat Osborn Band „. Chrapliwy wokal i euforyczne Hooki Osborna\, połączone ze zintegrowaną sekcją rytmiczną i mocną trzyczęściową sekcją dętą przyniosły im wyprzedane koncerty w Rockwood Music Hall\, Brooklyn Bowl i innych salach USA i Europy. Występując z takimi artystami jak Paul Simon\, Wynton Marsallis\, Ludocnis\, Marc Broussard\, doświadczeni koledzy z zespołu Osborna stworzyli niezaprzeczalnie wysokiej klasy jednostkę z prawdziwie urzekającym brzmieniem. \nNat Osborn: vocal/keys\nDustin Carlson: guitar\nMike Parker: bass\nPiotr Przewozniak: drums\nSlawek Pezda: tenor sax\ntrumpet- to be determined
URL:https://sok.com.pl/wydarzenie/nat-osborn-band-koncert-w-ramach-29-snj/
LOCATION:Klub Łaźnia\, pl. Ludowy 5\, Świdnica\, 58-100\, Poland
CATEGORIES:Muzyka
ATTACH;FMTTYPE=image/jpeg:https://sok.com.pl/wp-content/uploads/2022/06/NOB_blankposter_11x17.jpg
END:VEVENT
END:VCALENDAR