BEGIN:VCALENDAR
VERSION:2.0
PRODID:-//Świdnicki Ośrodek Kultury - ECPv5.5.0.1//NONSGML v1.0//EN
CALSCALE:GREGORIAN
METHOD:PUBLISH
X-WR-CALNAME:Świdnicki Ośrodek Kultury
X-ORIGINAL-URL:https://sok.com.pl
X-WR-CALDESC:Wydarzenia na Świdnicki Ośrodek Kultury
BEGIN:VTIMEZONE
TZID:Europe/Warsaw
BEGIN:DAYLIGHT
TZOFFSETFROM:+0100
TZOFFSETTO:+0200
TZNAME:CEST
DTSTART:20210328T010000
END:DAYLIGHT
BEGIN:STANDARD
TZOFFSETFROM:+0200
TZOFFSETTO:+0100
TZNAME:CET
DTSTART:20211031T010000
END:STANDARD
END:VTIMEZONE
BEGIN:VEVENT
DTSTART;TZID=Europe/Warsaw:20210828T201000
DTEND;TZID=Europe/Warsaw:20210828T211000
DTSTAMP:20260423T113618
CREATED:20210816T080813Z
LAST-MODIFIED:20210827T075438Z
UID:29524-1630181400-1630185000@sok.com.pl
SUMMARY:ZMIANA MIEJSCA! Muzyka Mi Leży #7: WIDUTO [pop]
DESCRIPTION:Ostatnia odsłona cyklu “Muzyka Mi Leży zmienia lokalizację z dziedzińca Wieży Ratuszowej na salę teatralną Świdnickiego Ośrodka Kultury. Dzięki temu do sprzedaży trafiła dodatkowa pula biletów na sobotni koncert Natalii Widuto\, który tak jak poprzednie\, wyprzedane wydarzenia prezentujące świdnickich artystów\, cieszy się bardzo dużym zainteresowaniem. \nMuzyka Mi Leży #7\nWIDUTO [pop]\nyoutube  \nKUP BILET \n\n  \nAutorski projekt Natalii Widuto\, która obecnie pracuje nad solowym albumem. Pisze teksty\, tworzy melodie oraz współtworzy muzykę w obszarze muzyki niezależnej\, indie popu. Na „Muzyka mi leży” zagra w towarzystwie dwóch gitarzystów – Piotra Krakowskiego i Mateusza Widuto\, którzy wspierają ją w tworzeniu debiutanckiego materiału. Będzie klimatycznie\, melancholijnie\, romantycznie. Na koncercie usłyszymy numery z nadchodzącej płyty WIDUTO\, oraz kilka coverów w ciekawej odsłonie. \n28 sierpnia 2021 / godzina 20:10 (wstęp od 19:30)\nmiejsce: sala teatralna ŚOK (Rynek 43)\nbilety: 10 zł / 15 zł (przedsprzedaż / w dniu wydarzenia) \nPo koncercie odbędzie się afterparty w pubie Ambasada San Esco Bar\, który jest partnerem cyklu “Muzyka Mi Leży”. Wsparcie organizacyjne i sprzętowe zapewniały także: Referat Organizacji Pozarządowych UM\, LOT Księstwo Świdnicko-Jaworskie oraz Muzeum Dawnego Kupiectwa. \n\n  \n \n 
URL:https://sok.com.pl/wydarzenie/muzyka-mi-lezy-widuto/
LOCATION:Świdnicki Ośrodek Kultury\, Rynek 43\, Świdnica\, Dolnośląskie\, 58-100\, Polska
CATEGORIES:Muzyka
ATTACH;FMTTYPE=image/jpeg:https://sok.com.pl/wp-content/uploads/2021/08/small_Widuto-foto-Jestem-Maciek-robie-zdjecia-04-scaled.jpg
ORGANIZER;CN="%C5%9Awidnicki%20O%C5%9Brodek%20Kultury":MAILTO:sok@sok.com.pl
END:VEVENT
END:VCALENDAR