BEGIN:VCALENDAR
VERSION:2.0
PRODID:-//Świdnicki Ośrodek Kultury - ECPv5.5.0.1//NONSGML v1.0//EN
CALSCALE:GREGORIAN
METHOD:PUBLISH
X-WR-CALNAME:Świdnicki Ośrodek Kultury
X-ORIGINAL-URL:https://sok.com.pl
X-WR-CALDESC:Wydarzenia na Świdnicki Ośrodek Kultury
BEGIN:VTIMEZONE
TZID:Europe/Warsaw
BEGIN:DAYLIGHT
TZOFFSETFROM:+0100
TZOFFSETTO:+0200
TZNAME:CEST
DTSTART:20230326T010000
END:DAYLIGHT
BEGIN:STANDARD
TZOFFSETFROM:+0200
TZOFFSETTO:+0100
TZNAME:CET
DTSTART:20231029T010000
END:STANDARD
END:VTIMEZONE
BEGIN:VEVENT
DTSTART;TZID=Europe/Warsaw:20230818T190000
DTEND;TZID=Europe/Warsaw:20230818T220000
DTSTAMP:20260421T013108
CREATED:20230710T074602Z
LAST-MODIFIED:20230816T115328Z
UID:34482-1692385200-1692396000@sok.com.pl
SUMMARY:Muzyka Mi Leży #4: NULLIZMATYK + RAF BAND [rap/metal]
DESCRIPTION:Świdnicki Ośrodek Kultury i Klub Łaźnia ponownie łączą siły. Na plenerowej scenie w otoczeniu przyrody Parku Centralnego zaprezentujemy artystów związanych ze Świdnicą. W kolejnych odsłonach czeka na Was bogaty wybór gatunków muzycznych\, i nie tylko! \nNULLIZMATYK [rap]\nhttps://www.facebook.com/NulloSPG\nRaper\, autor tekstów\, producent muzyczny\, współzałożyciel legendarnego wałbrzyskiego zespołu Trzeci Wymiar\, z którym wydał pięć albumów (cztery pokryte złotem). W maju ubiegłego roku światło dzienne ujrzała płyta „Antyviral”\, którą Nullo nagrał w duecie z Filipkiem. Natomiast w grudniu wydał swój drugi\, długo oczekiwany solowy album “Zabójca Królowej”. \nRAF BAND [rap-metal]\nhttps://www.facebook.com/profile.php?id=100063715265335\nGrają mocną muzykę z przekazem w klimatach Korn\, Limp Bizkit\, Body count czy P.O.D. Powstali rok temu i od tamtej pory nieustannie działają nad debiutancką płytą. Nagrania dobiegły końca a koncert w Łaźni będzie przedpremierowym zwieńczeniem ich pracy i pasji. \n📅 18 sierpnia 2023 / godzina 19:00\n📍 scena plenerowa Klubu Łaźnia\n🆓 WSTĘP WOLNY\nREZERWACJA stołów: klub.laznia@gmail.com \nORGANIZATOR\n🛠️ Świdnicki Ośrodek Kultury\n🛠️ Świdnicki Przegląd Muzyczny \nPARTNER\n🤝 Klub Łaźnia \n\n  \n\n 
URL:https://sok.com.pl/wydarzenie/muzyka-mi-lezy-nullizmatyk-raf-band/
LOCATION:Klub Łaźnia\, pl. Ludowy 5\, Świdnica\, 58-100\, Poland
CATEGORIES:Muzyka
ATTACH;FMTTYPE=image/png:https://sok.com.pl/wp-content/uploads/2023/07/FB_wydarzenie_Muzyka_Mi_Lezy_2023_18sierpnia_NulilzmatykRAF_Band_v2.png
ORGANIZER;CN="%C5%9Awidnicki%20O%C5%9Brodek%20Kultury":MAILTO:sok@sok.com.pl
END:VEVENT
END:VCALENDAR