BEGIN:VCALENDAR
VERSION:2.0
PRODID:-//Świdnicki Ośrodek Kultury - ECPv5.5.0.1//NONSGML v1.0//EN
CALSCALE:GREGORIAN
METHOD:PUBLISH
X-WR-CALNAME:Świdnicki Ośrodek Kultury
X-ORIGINAL-URL:https://sok.com.pl
X-WR-CALDESC:Wydarzenia na Świdnicki Ośrodek Kultury
BEGIN:VTIMEZONE
TZID:Europe/Warsaw
BEGIN:DAYLIGHT
TZOFFSETFROM:+0100
TZOFFSETTO:+0200
TZNAME:CEST
DTSTART:20240331T010000
END:DAYLIGHT
BEGIN:STANDARD
TZOFFSETFROM:+0200
TZOFFSETTO:+0100
TZNAME:CET
DTSTART:20241027T010000
END:STANDARD
END:VTIMEZONE
BEGIN:VEVENT
DTSTART;TZID=Europe/Warsaw:20240719T200000
DTEND;TZID=Europe/Warsaw:20240719T200000
DTSTAMP:20260421T030757
CREATED:20240701T090926Z
LAST-MODIFIED:20240701T120201Z
UID:37193-1721419200-1721419200@sok.com.pl
SUMMARY:Muzyka Mi Leży #19: MANY FIX [rap-rock]
DESCRIPTION:Już trzeci rok Świdnicki Ośrodek Kultury i Restauracja Łaźnia zapraszają na kameralną\, plenerową scenę w otoczeniu przyrody Parku Centralnego. \nMANY FIX [rap-rock]\nRockowe\, gitarowe granie zaakcentowane melodyjną sekcją dętą\, a do tego solidny rap.\nMany Fix łączy muzyków doświadczonych w szerokim spektrum gatunków. Pastoro to pochodzący ze Świdnicy raper ze stażem w klasyce gatunku i b-boy. Oliwer to perkusista i producent drum and bass. Przemek gitarzysta mocnego brzemienia\, Jurek saksofonista i pianista jazzowy\, a Paweł trębacz\, któremu nieobca klasyka. Nie starają się stworzyć muzycznego dziwoląga\, ale każdy znajduje swoje miejsce w całości. \n📍 ŚWIDNICA | KLUB ŁAŹNIA (pl. Ludowy 5)\n📅 19.07.2024 | 20:00\n🆓 WSTĘP WOLNY\nREZERWACJA stołów: klub.laznia@gmail.com \n🛠️ Organizator:\nŚwidnicki Ośrodek Kultury\nhttp://www.facebook.com/SwidnickiOsrodekKultury \n🤝 Partner:\nKlub Łaźnia\nhttp://www.facebook.com/laznia.swidnica \n  \n\n 
URL:https://sok.com.pl/wydarzenie/muzyka-mi-lezy-many-fix/
LOCATION:Klub Łaźnia\, pl. Ludowy 5\, Świdnica\, 58-100\, Poland
CATEGORIES:Muzyka
ATTACH;FMTTYPE=image/png:https://sok.com.pl/wp-content/uploads/2024/07/FB_wydarzenie_Muzyka_Mi_Lezy_Many_Fix.png
ORGANIZER;CN="%C5%9Awidnicki%20O%C5%9Brodek%20Kultury":MAILTO:sok@sok.com.pl
END:VEVENT
END:VCALENDAR