BEGIN:VCALENDAR
VERSION:2.0
PRODID:-//Świdnicki Ośrodek Kultury - ECPv5.5.0.1//NONSGML v1.0//EN
CALSCALE:GREGORIAN
METHOD:PUBLISH
X-WR-CALNAME:Świdnicki Ośrodek Kultury
X-ORIGINAL-URL:https://sok.com.pl
X-WR-CALDESC:Wydarzenia na Świdnicki Ośrodek Kultury
BEGIN:VTIMEZONE
TZID:Europe/Warsaw
BEGIN:DAYLIGHT
TZOFFSETFROM:+0100
TZOFFSETTO:+0200
TZNAME:CEST
DTSTART:20220327T010000
END:DAYLIGHT
BEGIN:STANDARD
TZOFFSETFROM:+0200
TZOFFSETTO:+0100
TZNAME:CET
DTSTART:20221030T010000
END:STANDARD
END:VTIMEZONE
BEGIN:VEVENT
DTSTART;TZID=Europe/Warsaw:20220423T180000
DTEND;TZID=Europe/Warsaw:20220423T200000
DTSTAMP:20260421T030544
CREATED:20220314T120144Z
LAST-MODIFIED:20220413T121553Z
UID:31237-1650736800-1650744000@sok.com.pl
SUMMARY:MIĘDZY PŁOTEM A KOWADŁEM [spektakl odwołany]
DESCRIPTION:Szanowni Państwo\, z przykrością informujemy\, iż spektakl  decyzją organizatora został odwołany.   \nProsimy o kontakt w sprawie zwrotu biletów. \n 
URL:https://sok.com.pl/wydarzenie/miedzy-plotem-a-kowadlem-spektakl/
LOCATION:Świdnicki Ośrodek Kultury\, Rynek 43\, Świdnica\, Dolnośląskie\, 58-100\, Polska
CATEGORIES:Teatr
ATTACH;FMTTYPE=image/jpeg:https://sok.com.pl/wp-content/uploads/2022/03/InternetPozioma_1920x1080.jpg
END:VEVENT
END:VCALENDAR