BEGIN:VCALENDAR
VERSION:2.0
PRODID:-//Świdnicki Ośrodek Kultury - ECPv5.5.0.1//NONSGML v1.0//EN
CALSCALE:GREGORIAN
METHOD:PUBLISH
X-WR-CALNAME:Świdnicki Ośrodek Kultury
X-ORIGINAL-URL:https://sok.com.pl
X-WR-CALDESC:Wydarzenia na Świdnicki Ośrodek Kultury
BEGIN:VTIMEZONE
TZID:Europe/Warsaw
BEGIN:DAYLIGHT
TZOFFSETFROM:+0100
TZOFFSETTO:+0200
TZNAME:CEST
DTSTART:20230326T010000
END:DAYLIGHT
BEGIN:STANDARD
TZOFFSETFROM:+0200
TZOFFSETTO:+0100
TZNAME:CET
DTSTART:20231029T010000
END:STANDARD
END:VTIMEZONE
BEGIN:VEVENT
DTSTART;TZID=Europe/Warsaw:20231215T180000
DTEND;TZID=Europe/Warsaw:20231215T190000
DTSTAMP:20260421T142651
CREATED:20231121T074943Z
LAST-MODIFIED:20231121T080400Z
UID:35340-1702663200-1702666800@sok.com.pl
SUMMARY:MAREK JANICKI „MIGAWKI Z ŻYCIA” [wernisaż wystawy]
DESCRIPTION:Marek Janicki „Migawki z życia” | wystawa fotografii\noprawa muzyczna: Roman Samostrokov (wiolonczela) i Vitalina Samostrokov (fortepian) \nO wystawie \n16 grudnia 1981. Jeden z czarniejszych dni w historii Polski. Data krwawej pacyfikacji strajku okupacyjnego w kopalni „Wujek” w Katowicach. Akcja sprzeciwiająca się wprowadzeniu stanu wojennego zakończyła się otwarciem ognia do protestujących górników i śmiercią dziewięciu z nich. 10 lutego 2018. Ostatnia sobota karnawału. Parada rozbawionych przebierańców na placu św. Marka w Wenecji i w jego okolicach. Istna rewia kunsztownych strojów i masek. \nCo łączy te jakże różne wydarzenia? Świadek\, który je zdokumentował na fotografiach. \nNie moglibyśmy teraz patrzeć na zamrożone ułamki sekund\, gdyby Marek Janicki nie znalazł się w konkretnych miejscach o konkretnej porze i gdyby nie skierował obiektywu na konkretne sytuacje. Trudno uwierzyć\, ale nie byłoby tych zdjęć\, gdyby kilkunastoletniemu wówczas Markowi nie zepsuł się aparat fotograficzny. Gdyby nie oddał go do naprawy do serwisu w Katowicach na osiedlu Tysiąclecia. Gdyby go nie odebrał feralnego dnia około godziny 10-tej. Gdyby w aparacie nie było filmu. I gdyby nie wracał autobusem numer 48\, który został zatrzymany za rondem Mikołowskim. Gdyby nie wysiadł i nie poszedł sprawdzić\, co się dzieje. I co najistotniejsze\, gdyby nie odważył się zrobić zdjęć\, a następnie ich wywołać i puścić w obieg. Gdyby…. gdyby…. \nTen ciąg zbiegów okoliczności moglibyśmy jeszcze długo rozwijać. A gdzieś na jego końcu znalazłaby się wyprawa do Wenecji sprzed czterech lat. Jej też przecież najprawdopodobniej by nie było\, gdyby nie heroizm działaczy podziemia antykomunistycznego w okresie stanu wojennego\, sprzyjająca sytuacja geopolityczna\, która doprowadziła do zmiany ustrojowej i zerwania żelaznej kurtyny oddzielającej tak zwane kraje demokracji ludowej od reszty świata. \nZadziwiające do jakiego stopnia nasze historie buduje przypadek. A nam się ciągle naiwnie wydaje\, że mocno trzymamy stery losu\, podczas gdy tak naprawdę jesteśmy głównie pasażerami tej łodzi\, którzy jedynie mogą przyglądać się temu\, co się dzieje za burtą i na pokładzie. Pozostaje tylko mieć nadzieję\, że po każdym sztormie dane nam będzie zobaczyć ponownie słońce. \n— Monika Kozień\, kurator wystawy \nMarek Janicki — urodzony w 1962 r. w Siemianowicach Śląskich. Od 1995 r. mieszka i pracuje u stóp Karkonoszy w Janowicach Wielkich. Fotografia od lat młodzieńczych jest jego pasją. Po zrealizowaniu „męskich obowiązków” (dom\, syn\, drzewo) powrócił do młodzieńczego zamiłowania. Członek Jeleniogórskiego Towarzystwa Fotograficznego. Jest autorem — zasługujących na szczególną uwagę — zdjęć wykonanych w stanie wojennym podczas pacyfikacji kopalni „Wujek”. Obserwując otaczający go świat\, stara się uchwycić ten najlepszy moment\, by zostawić go dla potomnych.
URL:https://sok.com.pl/wydarzenie/marek-janicki-migawki-z-zycia-wernisaz-wystawy/
LOCATION:Galeria Fotografii\, Rynek 44\, Świdnica\, Dolnośląskie\, 58-100\, Polska
CATEGORIES:Wystawa
ATTACH;FMTTYPE=image/jpeg:https://sok.com.pl/wp-content/uploads/2023/11/AP_plakat_Janicki_wernisaz_70x100cm_2023-11-20.jpg
ORGANIZER;CN="%C5%9Awidnicki%20O%C5%9Brodek%20Kultury":MAILTO:sok@sok.com.pl
END:VEVENT
END:VCALENDAR