BEGIN:VCALENDAR
VERSION:2.0
PRODID:-//Świdnicki Ośrodek Kultury - ECPv5.5.0.1//NONSGML v1.0//EN
CALSCALE:GREGORIAN
METHOD:PUBLISH
X-WR-CALNAME:Świdnicki Ośrodek Kultury
X-ORIGINAL-URL:https://sok.com.pl
X-WR-CALDESC:Wydarzenia na Świdnicki Ośrodek Kultury
BEGIN:VTIMEZONE
TZID:Europe/Warsaw
BEGIN:DAYLIGHT
TZOFFSETFROM:+0100
TZOFFSETTO:+0200
TZNAME:CEST
DTSTART:20200329T010000
END:DAYLIGHT
BEGIN:STANDARD
TZOFFSETFROM:+0200
TZOFFSETTO:+0100
TZNAME:CET
DTSTART:20201025T010000
END:STANDARD
END:VTIMEZONE
BEGIN:VEVENT
DTSTART;TZID=Europe/Warsaw:20200121T180000
DTEND;TZID=Europe/Warsaw:20200121T180000
DTSTAMP:20260421T090512
CREATED:20191115T124326Z
LAST-MODIFIED:20191127T085824Z
UID:23216-1579629600-1579629600@sok.com.pl
SUMMARY:KRYSTYNA GIŻOWSKA - [koncert z okazji Dnia Babci i Dziadka]
DESCRIPTION:KUP BILET \n\nZapraszamy Państwa serdecznie na wyjątkowy koncert z okazji Dnia Babci i Dziadka w wykonaniu Krystyny Giżowskiej. W recitalu piosenkarka zaśpiewa swoje największe przeboje\, które znamy i lubimy. Pani Krystynie towarzyszył będzie Adam Pawlikowski — kierownictwo muzyczne i fortepian. \nWłasna droga Krystyny Giżowskiej jako solistki zaczęła się na festiwalu piosenki w Soczi w 1976 r. zdobyciem II nagrody. Rok 1977 przyniósł jej II nagrodę na Coupe d’Europe w Villach w Austrii. 1978 r. I nagroda za interpretacje piosenki do muzyki Chopina na festiwalu przebojów w Rostocku. Rok 1979 III nagroda i nagroda publiczności piosenki w Dreźnie. Rok 1981 Grand Prix na festiwalu Krajów Nadbałtyckich w Karlscham w Szwecji. Rok 1984 Grand Prix na Międzynarodowym Festiwalu Piosenki Sopot’84. \nTe sukcesy jak również intensywna działalność koncertowa w kraju i zagranicą (w NRD\, RFN\, Francja\, Czechosłowacja\, USA\, Kanada\, Japonia\, itd.) potwierdziły trafność wyboru „własnej drogi”.\nK. Giżowska zaczęła nagrywać płyty\, programy i piosenki we wszystkich stacjach radiowych i telewizyjnych.\nWydane płyty: „Jestem jak inne”\, „Nie było ciebie tyle lat”\, „Przeżyłam z tobą tyle lat”\, „Duety – Ci wspaniali i Ja”\, „Złote przeboje”\, „Antologia cz. I i II”\, „Kolędy i Pastorałki”\, płyta dla dzieci „Kosmiczna deskorolka”. \nNajwiększe Przeboje: „Złote obrączki”\, „Nie było ciebie tyle lat”\, „Przeżyłam z tobą tyle lat”\, „W drodze do Fontainebleau”\, „Blue box”\, „Koncert na światło i cień”\, „Samotność czeka na peronie”.\nZanim poszła własną drogą estradową jako amatorka śpiewała w zespole Transportowiec w Koszalinie\, brała udział w konkursach piosenki Polskiej\, Żołnierskiej\, Giełdach Piosenki zajmując I miejsca. \nWspółpracowała z Big Bandem prowadzonym przez Ryszarda Poznakowskiego i Ryszarda Balickiego\, związała się też przez jakiś czas z zespołem „Flotyllą” pracując tam pod kierunkiem znakomitych fachowców m.in. Danutą Baduszkową i Jackiem Korczakowskim ucząc się wszystkiego co wiąże się ze sceną: dykcji\, solfeżu\, emisji głosu i ruchu scenicznego\, które to umiejętności mogła wykorzystać na profesjonalnej scenie.
URL:https://sok.com.pl/wydarzenie/krystyna-gizowska-koncert-z-okazji-dnia-babci-i-dziadka/
LOCATION:Świdnicki Ośrodek Kultury\, Rynek 43\, Świdnica\, Dolnośląskie\, 58-100\, Polska
CATEGORIES:Koncerty
ATTACH;FMTTYPE=image/jpeg:https://sok.com.pl/wp-content/uploads/2019/11/Krystyna-Giżowska-Koncert-z-okazji-Dnia-Kobiet.jpg
END:VEVENT
END:VCALENDAR