BEGIN:VCALENDAR
VERSION:2.0
PRODID:-//Świdnicki Ośrodek Kultury - ECPv5.5.0.1//NONSGML v1.0//EN
CALSCALE:GREGORIAN
METHOD:PUBLISH
X-WR-CALNAME:Świdnicki Ośrodek Kultury
X-ORIGINAL-URL:https://sok.com.pl
X-WR-CALDESC:Wydarzenia na Świdnicki Ośrodek Kultury
BEGIN:VTIMEZONE
TZID:Europe/Warsaw
BEGIN:DAYLIGHT
TZOFFSETFROM:+0100
TZOFFSETTO:+0200
TZNAME:CEST
DTSTART:20230326T010000
END:DAYLIGHT
BEGIN:STANDARD
TZOFFSETFROM:+0200
TZOFFSETTO:+0100
TZNAME:CET
DTSTART:20231029T010000
END:STANDARD
END:VTIMEZONE
BEGIN:VEVENT
DTSTART;TZID=Europe/Warsaw:20230416T150000
DTEND;TZID=Europe/Warsaw:20230416T160000
DTSTAMP:20260422T095137
CREATED:20230406T123255Z
LAST-MODIFIED:20230406T123313Z
UID:33940-1681657200-1681660800@sok.com.pl
SUMMARY:KONCERT WIELKANOCNY W JAWORZE
DESCRIPTION:Zaledwie 40 minut samochodem od Świdnicy znajduje się gotycki kościół farny pw. św. Marcina\, który do dziś zachował swoją oryginalną formę. Po raz drugi Fundacja Dobrej Muzyki we współpracy z Parafią pw. św. Marcian ma przyjemność organizować wydarzenie muzyczne w tej zabytkowej świątyni! \nUroczysty\, nawiązujący do okresu wielkanocnego repertuar wykonają dolnośląscy muzycy. Podczas koncertu\, poza utworami w wykonaniu chóru kameralnego NOBIS czy wrocławskich trębaczy\, nie zabraknie wątku organowego. \nKoncert Wielkanocny \n16 kwietnia 2023\, niedziela\, godz. 15:00\nczas: ok. 60 min\nKościół pw. Św. Marcina w Jaworze (ul. św. Marcina 1\, Jawor) \nWstęp wolny! \nWystąpią:\nZuzanna i Maciej Batorowie (Świdnica) – organy\nRafał Czemarmazowicz\, Marcin Król (Wrocław) – trąbki\nChór kameralny NOBIS\nMarcin Tyrcz (Jawor) – dyrygent \nW programie m.in.:\nG.F. Händel\, G.P. Palestrina\, Ch. Gounod \nOrganizatorzy:\nFundacja Dobrej Muzyki\nParafia pw. Św. Marcina w Jaworze \nWykonawcami niedzielnego koncertu będą: \nZuzanna i Maciej Batorowie to małżeństwo organistów. Od 2011 roku związani ze Świdnicą\, gdzie tworzą jedno z najbardziej zauważalnych centrów muzyki organowej w Polsce. Prowadzą Fundację Dobrej Muzyki\, w której realizują swoją misję – uczenie lepszego rozumienia muzyki organowej. W ciągu 6 lat działalności Fundacji zorganizowali ponad 150 koncertów zapraszając wybitnych artystów z całego świata. Para koncertuje w wielu krajach europejskich jako duet organowy wykonując autorskie transkrypcje organowe na 4 ręce. Rodzice Bernarda\, Leonarda i Henryka. \nRafał Czemarmazowicz – trębacz\, kameralista\, pedagog. Absolwent Akademii Muzycznej im. Karola Lipińskiego we Wrocławiu w klasie trąbki prof. Igora Cecocho. Współpracuje z wieloma orkiestrami symfonicznymi z całej Polski\, m. in. NFM we Wrocławiu\, NFM Leopoldinum\, Sinfoniettą Cracovią\, Sinfonią Iuventus\, Filharmonią Poznańską\, Filharmonią Szczecińską\, Filharmonią Dolnośląską w Jeleniej Górze\, Vratislavia Trumpet Consort. Od 2012r. jest trębaczem Orkiestry Opery Wrocławskiej. \nMarcin Król – trębacz i kompozytor\, aranżer. Ukończył Państwową Szkołę Muzyczną w Legnicy w klasie trąbki mgr. Andrzeja Widza. W roku 2010 ukończył studia I i I stopnia na kierunku Instrumentalistka w klasie trąbki prof. Igora Cecocho Akademii Muzycznej im. Grażyny i Kiejstuta Bacewiczów w Łodzi. Jako muzyk orkiestrowy\, a od 2015 r. muzyk solista związany jest zawodowo z Operą Wrocławską. Ponadto współpracował z instytucjami kulturalnymi Dolnego Śląska: Filharmonia Dolnośląska w Jeleniej Górze\, Narodowe Forum Muzyki we Wrocławiu\, Zespół „Pax Musicuorum” przy Kościele Pokoju w Świdnicy. \nChór Kameralny NOBIS to grupa przyjaciół\, którzy znają się z różnych projektów muzycznych. Postanowili oni działać samodzielnie\, stąd też nazwa „NOBIS z języka łacińskiego MY”. Pochodzą z różnych miast na Dolnym Śląsku\, na próby spotykają się w Legnicy. W marcu b.r. zdobyli brązowe pasmo w XV Pomorskim Festiwalu Pieśni Wielkopostnej – Kielno 2023. Dyrygentem chóru jest jaworzanin Marcin Tyrcz – organista\, student Akademii Muzycznej im. Karola Lipińskiego we Wrocławiu.
URL:https://sok.com.pl/wydarzenie/koncert-wielkanocny-w-jaworze/
LOCATION:Kościół św. Marcina\, Jawor\, ul. św. Marcina 1\, Jawor
CATEGORIES:Muzyka
ATTACH;FMTTYPE=image/png:https://sok.com.pl/wp-content/uploads/2023/04/Plakat-v.3-PNG_Koncert-Wielkanocny-Jawor-2023.png
END:VEVENT
END:VCALENDAR