BEGIN:VCALENDAR
VERSION:2.0
PRODID:-//Świdnicki Ośrodek Kultury - ECPv5.5.0.1//NONSGML v1.0//EN
CALSCALE:GREGORIAN
METHOD:PUBLISH
X-WR-CALNAME:Świdnicki Ośrodek Kultury
X-ORIGINAL-URL:https://sok.com.pl
X-WR-CALDESC:Wydarzenia na Świdnicki Ośrodek Kultury
BEGIN:VTIMEZONE
TZID:Europe/Warsaw
BEGIN:DAYLIGHT
TZOFFSETFROM:+0100
TZOFFSETTO:+0200
TZNAME:CEST
DTSTART:20220327T010000
END:DAYLIGHT
BEGIN:STANDARD
TZOFFSETFROM:+0200
TZOFFSETTO:+0100
TZNAME:CET
DTSTART:20221030T010000
END:STANDARD
END:VTIMEZONE
BEGIN:VEVENT
DTSTART;TZID=Europe/Warsaw:20220610T200000
DTEND;TZID=Europe/Warsaw:20220610T200000
DTSTAMP:20260421T115958
CREATED:20220609T092722Z
LAST-MODIFIED:20220609T092722Z
UID:31838-1654891200-1654891200@sok.com.pl
SUMMARY:KONCERT WALDEMARA MALICKIEGO
DESCRIPTION:Szanowni Państwo\, \nnformujemy\, iż koncert Waldemara Malickiego „Naga prawda o klasyce”\, w Świdnicy\, który był zaplanowany na dzień 10.06.2022\, odbędzie się w nowym terminie. Nowa data wydarzenia\, to: 16.10.2022r.  Zmianie ulega data wydarzenia. \nWszystkie bilety wraz z zawartymi danymi pozostają ważne i obowiązują w nowym terminie. \nPozdrawiamy\, \nEskander
URL:https://sok.com.pl/wydarzenie/koncert-waldemara-malickiego/
CATEGORIES:Muzyka
ATTACH;FMTTYPE=image/jpeg:https://sok.com.pl/wp-content/uploads/2022/04/malicki-naga.jpg
END:VEVENT
END:VCALENDAR