BEGIN:VCALENDAR
VERSION:2.0
PRODID:-//Świdnicki Ośrodek Kultury - ECPv5.5.0.1//NONSGML v1.0//EN
CALSCALE:GREGORIAN
METHOD:PUBLISH
X-WR-CALNAME:Świdnicki Ośrodek Kultury
X-ORIGINAL-URL:https://sok.com.pl
X-WR-CALDESC:Wydarzenia na Świdnicki Ośrodek Kultury
BEGIN:VTIMEZONE
TZID:Europe/Warsaw
BEGIN:DAYLIGHT
TZOFFSETFROM:+0100
TZOFFSETTO:+0200
TZNAME:CEST
DTSTART:20200329T010000
END:DAYLIGHT
BEGIN:STANDARD
TZOFFSETFROM:+0200
TZOFFSETTO:+0100
TZNAME:CET
DTSTART:20201025T010000
END:STANDARD
END:VTIMEZONE
BEGIN:VEVENT
DTSTART;TZID=Europe/Warsaw:20200125T170000
DTEND;TZID=Europe/Warsaw:20200125T190000
DTSTAMP:20260421T033014
CREATED:20200107T101555Z
LAST-MODIFIED:20200124T082223Z
UID:23843-1579971600-1579978800@sok.com.pl
SUMMARY:KONCERT NOWOROCZNY ZESPOŁÓW KRĄG I MAŁA ŚWIDNICA
DESCRIPTION:KUP BILET \nRok zaczynamy mocny\, barwnym\, tanecznym akcentem: zespoły „Krąg” i „Mała Świdnica” pojawią się na scenie sali teatralnej ŚOK\, by radośnie uczcić ten nowy początek.
URL:https://sok.com.pl/wydarzenie/koncert-noworoczny-zespolow-krag-i-mala-swidnica/
LOCATION:Świdnicki Ośrodek Kultury\, Rynek 43\, Świdnica\, Dolnośląskie\, 58-100\, Polska
CATEGORIES:Koncerty
ATTACH;FMTTYPE=image/jpeg:https://sok.com.pl/wp-content/uploads/2020/01/81747116_2643974342304439_4771298977515569152_o.jpg
ORGANIZER;CN="%C5%9Awidnicki%20O%C5%9Brodek%20Kultury":MAILTO:sok@sok.com.pl
END:VEVENT
END:VCALENDAR