BEGIN:VCALENDAR
VERSION:2.0
PRODID:-//Świdnicki Ośrodek Kultury - ECPv5.5.0.1//NONSGML v1.0//EN
CALSCALE:GREGORIAN
METHOD:PUBLISH
X-WR-CALNAME:Świdnicki Ośrodek Kultury
X-ORIGINAL-URL:https://sok.com.pl
X-WR-CALDESC:Wydarzenia na Świdnicki Ośrodek Kultury
BEGIN:VTIMEZONE
TZID:Europe/Warsaw
BEGIN:DAYLIGHT
TZOFFSETFROM:+0100
TZOFFSETTO:+0200
TZNAME:CEST
DTSTART:20230326T010000
END:DAYLIGHT
BEGIN:STANDARD
TZOFFSETFROM:+0200
TZOFFSETTO:+0100
TZNAME:CET
DTSTART:20231029T010000
END:STANDARD
END:VTIMEZONE
BEGIN:VEVENT
DTSTART;TZID=Europe/Warsaw:20231126T170000
DTEND;TZID=Europe/Warsaw:20231126T170000
DTSTAMP:20260422T101419
CREATED:20230315T091133Z
LAST-MODIFIED:20230315T092016Z
UID:33802-1701018000-1701018000@sok.com.pl
SUMMARY:Koncert Muzyki Świata - od operetki po hity muzyki estradowej
DESCRIPTION:KUP BILET \n  \nKoncert Muzyki Świata! \nTo kolejny  z serii koncertów pod hasłem od operetki po hity muzyki estradowej. W tę muzyczną podróż zabierze nas wyjątkowa\, 10 osobowa  grupa muzyków i solistów pochodząca z różnych krajów Europy. Wyjątkowe aranże\, nieznane dotąd wersje znanych i uwielbianych utworów usłyszymy i zobaczymy na żywo! \nArtyści zaprezentują między innymi Libertango (akordeon)\,  arie ze Skrzypka na dachu\, hity operetkowe\, muzykę z filmu „Piraci z Karaibów” oraz ” Zapach Kobiety”\, piosenkę francuską (Edith Piaf)\, ujmujące ballady gruzińskie\, jak i włoskie przeboje w wiązance Volare\, My way  i wiele innych\, które pozostaną niespodzianką do dnia koncertu 🙂 \nCzas : 100 min. \n  \nZespół  Adam Wojtasik Band w składzie : \nAdam Wojtasik (Lider Band) – saksofony \nMarcin Janiszewski – fortepian \nKarol Kozłowski – bas \nAdam Zgrajka – perkusja \nSławomir Badowski – gitary \nAleksandra Budziarska – skrzypce \nJoanna Dzidowska – wiolonczela \n  \nSoliści :\nKsenia Shaushyshvili – sopran (Gruzja) \nSławomir Olgierd Kramm – baryton \nAndrij Melnyk – akordeon (Ukraina) \n  \n\n 
URL:https://sok.com.pl/wydarzenie/koncert-muzyki-swiata-od-operetki-po-hity-muzyki-estradowej/
LOCATION:Świdnicki Ośrodek Kultury\, Rynek 43\, Świdnica\, Dolnośląskie\, 58-100\, Polska
CATEGORIES:Muzyka
ATTACH;FMTTYPE=image/jpeg:https://sok.com.pl/wp-content/uploads/2023/03/Koncert-Wysylka-min.jpg
END:VEVENT
END:VCALENDAR