BEGIN:VCALENDAR
VERSION:2.0
PRODID:-//Świdnicki Ośrodek Kultury - ECPv5.5.0.1//NONSGML v1.0//EN
CALSCALE:GREGORIAN
METHOD:PUBLISH
X-WR-CALNAME:Świdnicki Ośrodek Kultury
X-ORIGINAL-URL:https://sok.com.pl
X-WR-CALDESC:Wydarzenia na Świdnicki Ośrodek Kultury
BEGIN:VTIMEZONE
TZID:Europe/Warsaw
BEGIN:DAYLIGHT
TZOFFSETFROM:+0100
TZOFFSETTO:+0200
TZNAME:CEST
DTSTART:20230326T010000
END:DAYLIGHT
BEGIN:STANDARD
TZOFFSETFROM:+0200
TZOFFSETTO:+0100
TZNAME:CET
DTSTART:20231029T010000
END:STANDARD
END:VTIMEZONE
BEGIN:VEVENT
DTSTART;TZID=Europe/Warsaw:20230119T190000
DTEND;TZID=Europe/Warsaw:20230119T213000
DTSTAMP:20260420T082751
CREATED:20220930T065936Z
LAST-MODIFIED:20220930T070257Z
UID:32572-1674154800-1674163800@sok.com.pl
SUMMARY:KLIMAKTERIUM... I JUŻ [SPEKTAKL KOMEDIOWY]
DESCRIPTION:KUP BILET \nŚwidnicki Ośrodek Kultury zaprasza na spektakl komediowy pt. „Klimakterium … i już” (coś między kabaretem\, musicalem a farsą) \n19.01.2023 r.\ngodz. 19.00\nsala teatralna Świdnickiego Ośrodka Kultury\nbilety: 100 zł/parter; 90 zł/balkon \nBohaterkami musicalu są cztery kobiety w wieku „menopauzalnym”. Wszystkie mają problemy\, z którymi muszą się uporać. Pragniemy pokazać\, że klimakterium jest wpisane w życie kobiety – mają je bohaterki występujące na scenie\, ale także kobiety siedzące na widowni – miały\, mają albo będą je miały. Jest to czas dla kobiety trudny\, co wcale nie znaczy\, ze beznadziejny. Ważna jest świadomość wspólnoty pewnych doświadczeń – kobiety siedzące na widowni dowiadują się\, że ich dolegliwości nie są czymś wyjątkowym. Mimo iż menopauza dotyczy wszystkich kobiet\, jest to temat wstydliwy\, a co za tym idzie – starannie pomijany.\nPoprzez spektakl pragniemy zilustrować\, w sposób zrozumiały\, przystępny i humorystyczny\, jak rożnymi sposobami można sobie z tym radzić.\nSztuka ma pokazywać różne zachowania\, zawsze jednak w sposób humorystyczny – tym bardziej\, że sam humor jest doskonałym lekarstwem (bez skutków ubocznych:)\nŚmiejąc się łatwiej znosimy przeciwności losu.\nWażne tematy nie muszą być przedstawione poważnie\, dlatego tak ważny jest w spektaklu humor. \nSpektakl „Klimakterium… i już” to przyjemny wieczorek z babami i dla bab\, a jego wiodącym tematem jest słowo\, którego na co dzień się nie wymawia.\nCztery przyjaciółki\, spotkawszy się w butiku prowadzonym przez jedną z nich\, przekuwają drażliwy problem menopauzy na pioseneczki i tańce.\nO trapiących je dolegliwościach śpiewają do dobrze znanych melodii\, np. o uderzeniach gorąca do nut piosenki „Kuba\, wyspa jak wulkan”. \nNa scenie zobaczymy aktorki (występują zamiennie) o ogromnym potencjale komediowym\, będące z całą pewnością magnesem dla publiczności. \nReżyseria: Cezary Domagała\nKier. muz.: Janusz Bogacki\nScenografia i kostiumy: Tatiana Kwiatkowska\nChoreografia: Tomasz Tworkowski\nProdukcja: Tomasz Heller \nZapraszamy już 19.01.2023 r. do Świdnickiego Ośrodka Kultury Świdnica\, Rynek 43\nBilety: Kasa Świdnickiego Ośrodka Kultury\, tel.74 851 56 57\nonline: www.bilety.sok.com.pl\, www.kupbilecik.pl\, www.biletyna.pl\, www.ebilet.pl\nZamówienia zbiorowe informacje: tel. 737 567 014 \n 
URL:https://sok.com.pl/wydarzenie/klimakterium-i-juz-spektakl-komediowy/
LOCATION:Świdnicki Ośrodek Kultury\, Rynek 43\, Świdnica\, Dolnośląskie\, 58-100\, Polska
CATEGORIES:Teatr
ATTACH;FMTTYPE=image/jpeg:https://sok.com.pl/wp-content/uploads/2022/09/Klimakterium-i-juz-....jpg
END:VEVENT
END:VCALENDAR