BEGIN:VCALENDAR
VERSION:2.0
PRODID:-//Świdnicki Ośrodek Kultury - ECPv5.5.0.1//NONSGML v1.0//EN
CALSCALE:GREGORIAN
METHOD:PUBLISH
X-WR-CALNAME:Świdnicki Ośrodek Kultury
X-ORIGINAL-URL:https://sok.com.pl
X-WR-CALDESC:Wydarzenia na Świdnicki Ośrodek Kultury
BEGIN:VTIMEZONE
TZID:Europe/Warsaw
BEGIN:DAYLIGHT
TZOFFSETFROM:+0100
TZOFFSETTO:+0200
TZNAME:CEST
DTSTART:20260329T010000
END:DAYLIGHT
BEGIN:STANDARD
TZOFFSETFROM:+0200
TZOFFSETTO:+0100
TZNAME:CET
DTSTART:20261025T010000
END:STANDARD
END:VTIMEZONE
BEGIN:VEVENT
DTSTART;TZID=Europe/Warsaw:20260220T200000
DTEND;TZID=Europe/Warsaw:20260220T200000
DTSTAMP:20260421T012907
CREATED:20260116T113108Z
LAST-MODIFIED:20260116T122501Z
UID:42984-1771617600-1771617600@sok.com.pl
SUMMARY:JAVVA + 30ZETA [noise rock / post-punk]
DESCRIPTION:Świdnicki Ośrodek Kultury prezentuje: \nJAVVA [noise rock / post-punk]\n[fb] | [ig] | [bc] \nPięciu przyjaciół i doświadczonych muzyków z niemałym dorobkiem artystycznym i scenicznym. Na przestrzeni ostatnich 30 lat współtworzyli takie formacje jak m.in. Mitch & Mitch\, Starzy Singers\, Something Like Elvis\, Contemporary Noise Quintet czy Alameda.\nLuminarze polskiej sceny niezależnej wracają z nowym materiałem\, który zawiera w sobie to\, co najlepsze\, gdy mowa o rytmicznej i tanecznej muzyce gitarowej z mocnymi i wyrazistymi wokalami\, okraszonej bogatą paletą brzmień sampli i syntezatorów. \nskład: Piotr Bukowski (gitara)\, Łukasz Twix Jędrzejczak (wokal\, elektronika)\, Bartek Kapsa (perkusja)\, Macio Moretti (perkusja\, elektronika)\, Jasiek Wroński (bas\, wokal). \n30ZETA [post-punk]\n[fb] \nEkipa kumpli\, którzy od dzieciaka łupią w strzegomskim garażu\, gdzie wszystko zaczęło się od hałasu\, pasji i potrzeby wyrzucenia z siebie emocji. Ich brzmienie to mieszanka hardcore punka\, rapcore’u\, nu metalu i grunge’u – ciężkie riffy\, surowy beat i szczery\, nieupiększony przekaz. \n📍 ŚWIDNICA | KLUB BOLKO ŚOK (pl. Grunwaldzki 11)\n📅 20.02.2026 | start: 20:00 (bramka 19:30)\n🎫 bilety: 40 zł / 50 zł / 30 zł (przedsprzedaż / w dniu wydarzenia / młodzież szkolna*) \n* dotyczy uczniów szkół podstawowych i średnich w dniu wydarzenia na podstawie aktualnej legitymacji \n🛒 sprzedaż w kasach ŚOK oraz on-line \nKUP BILET\n  \n🛠️ Organizator: Świdnicki Ośrodek Kultury\n🍺 Piwo i inne napoje na miejscu zapewnia “sKŻynka” \n\n  \n\n 
URL:https://sok.com.pl/wydarzenie/javva-30zeta-noise-rock-post-punk/
LOCATION:Klub Bolko\, pl. Grunwaldzki 11\, Świdnica\, Dolnośląskie\, 58-100\, Polska
CATEGORIES:Muzyka
ATTACH;FMTTYPE=image/png:https://sok.com.pl/wp-content/uploads/2026/01/FB_Javva_30zeta_v2.png
ORGANIZER;CN="%C5%9Awidnicki%20O%C5%9Brodek%20Kultury":MAILTO:sok@sok.com.pl
END:VEVENT
END:VCALENDAR