BEGIN:VCALENDAR
VERSION:2.0
PRODID:-//Świdnicki Ośrodek Kultury - ECPv5.5.0.1//NONSGML v1.0//EN
CALSCALE:GREGORIAN
METHOD:PUBLISH
X-WR-CALNAME:Świdnicki Ośrodek Kultury
X-ORIGINAL-URL:https://sok.com.pl
X-WR-CALDESC:Wydarzenia na Świdnicki Ośrodek Kultury
BEGIN:VTIMEZONE
TZID:Europe/Warsaw
BEGIN:DAYLIGHT
TZOFFSETFROM:+0100
TZOFFSETTO:+0200
TZNAME:CEST
DTSTART:20250330T010000
END:DAYLIGHT
BEGIN:STANDARD
TZOFFSETFROM:+0200
TZOFFSETTO:+0100
TZNAME:CET
DTSTART:20251026T010000
END:STANDARD
END:VTIMEZONE
BEGIN:VEVENT
DTSTART;TZID=Europe/Warsaw:20250301T110000
DTEND;TZID=Europe/Warsaw:20250301T123000
DTSTAMP:20260421T032035
CREATED:20250131T075805Z
LAST-MODIFIED:20250211T074300Z
UID:39602-1740826800-1740832200@sok.com.pl
SUMMARY:JAKUB\, MIMMI I GADAJĄCE PSY - SPEKTRUM DZIECIOM
DESCRIPTION:KUP BILET \n  \nŚwidnicki Ośrodek Kultury zaprasza na projekcję filmu PT. Jakub\, Mimmi i gadające psy \n01.03.25 r. godz. 11.00\,\n sala teatralna ŚOK\nbilety: 15 zł/10 zł ulgowy do nabycia na: bilety.sok.com.pl \nKiedy świat zmienia się nie do poznania a dorośli pozostają bierni\, pora by młodzi wzięli sprawy w swoje ręce. Czasem wystarczy się tylko dogadać. Refleksyjny Jakub i dzielna Mimmi stają w obronie parku\, w którym zaplanowano postawić drapacz chmur. Kiedy koparki i buldożery wkraczają do akcji\, zawiązuje się niezwykły\, bo międzygatunkowy sojusz. Dzieci łączą siły z Bossem\, czyli… szefem gangu gadających psów. Nie ma czasu do starcenia\, trzeba działać\, ale nie jest to łatwe\, kiedy przyjaźń i zaufanie co chwila poddawane są próbie. Piękna polsko-łotewska animacja o dziecięcej odwadze oraz szacunku wobec zwierząt\, ludzi i miejsc.\nreż. Edmunds Jansons\, prod. Łotwa/Polska\, 2019\, 70’\, dubbing\, animacja\, 6+
URL:https://sok.com.pl/wydarzenie/jakub-mimmi-i-gadajace-psy-spektrum-dzieciom/
LOCATION:Świdnicki Ośrodek Kultury\, Rynek 43\, Świdnica\, Dolnośląskie\, 58-100\, Polska
CATEGORIES:Film
ATTACH;FMTTYPE=image/jpeg:https://sok.com.pl/wp-content/uploads/2025/01/kino-familijne-jakub.jpg
ORGANIZER;CN="%C5%9Awidnicki%20O%C5%9Brodek%20Kultury":MAILTO:sok@sok.com.pl
END:VEVENT
END:VCALENDAR