BEGIN:VCALENDAR
VERSION:2.0
PRODID:-//Świdnicki Ośrodek Kultury - ECPv5.5.0.1//NONSGML v1.0//EN
CALSCALE:GREGORIAN
METHOD:PUBLISH
X-WR-CALNAME:Świdnicki Ośrodek Kultury
X-ORIGINAL-URL:https://sok.com.pl
X-WR-CALDESC:Wydarzenia na Świdnicki Ośrodek Kultury
BEGIN:VTIMEZONE
TZID:Europe/Warsaw
BEGIN:DAYLIGHT
TZOFFSETFROM:+0100
TZOFFSETTO:+0200
TZNAME:CEST
DTSTART:20240331T010000
END:DAYLIGHT
BEGIN:STANDARD
TZOFFSETFROM:+0200
TZOFFSETTO:+0100
TZNAME:CET
DTSTART:20241027T010000
END:STANDARD
END:VTIMEZONE
BEGIN:VEVENT
DTSTART;TZID=Europe/Warsaw:20240316T110000
DTEND;TZID=Europe/Warsaw:20240316T123000
DTSTAMP:20260422T020739
CREATED:20240219T145235Z
LAST-MODIFIED:20240220T074400Z
UID:35958-1710586800-1710592200@sok.com.pl
SUMMARY:JAKUB\, MIMMI I GADAJĄCE PSY [Kino Familijne — Spektrum Dzieciom]
DESCRIPTION:KUP BILET \n  \nJakub i Mimmi to para kuzynów\, którzy niezbyt się lubią. Wkrótce jednak pojawia się szansa\, by to zmienić. Dzieci zaprzyjaźniają się z gangiem gadających psów. \nJakub mieszka w centrum Rygi. Na co dzień pochłania go rysowanie. Fascynuje go planowanie przestrzeni urbanistycznej\, ponieważ w przyszłości chce zostać\, tak jak jego ojciec\, architektem. Pewnego dnia tata oznajmia mu\, że będzie musiał spędzić tydzień ze swoją kuzynką Mimmi i wujkiem Orłem na obrzeżach miasta\, w Maskaczce. Chłopiec nie jest zadowolony z takiego pomysłu. Wkracza w inny\, nieznany mu świat. Jakub czuje się samotny\, bo niespecjalnie dogaduje się ze swoją kuzynką Mimmi. Sytuacja zmienia się gdy poznaje okoliczne psy z Bossem na czele. Razem z Mimmi i zaprzyjaźnionymi psami\, które potrafią mówić ludzkim głosem\, walczy o zatrzymanie budowy biurowców w okolicy. Wspólne działanie na rzecz środowiska jednoczy ich i sprawia\, że czas spędzony u rodziny na zawsze zostanie w jego pamięci. \nreż. E. Janson / Łotwa\, Polska / 2019 / animowany / 70′ \nfilm dla dzieci od lat 5
URL:https://sok.com.pl/wydarzenie/jakub-mimmi-i-gadajace-psy-kino-familijne-spektrum-dzieciom/
LOCATION:Świdnicki Ośrodek Kultury\, Rynek 43\, Świdnica\, Dolnośląskie\, 58-100\, Polska
CATEGORIES:Film
ATTACH;FMTTYPE=image/jpeg:https://sok.com.pl/wp-content/uploads/2024/02/uid_86141ca04c70ad1ffd227f320bab4be81654076223975_width_1200_play_0_pos_0_gs_0_height_630.jpg
END:VEVENT
END:VCALENDAR