BEGIN:VCALENDAR
VERSION:2.0
PRODID:-//Świdnicki Ośrodek Kultury - ECPv5.5.0.1//NONSGML v1.0//EN
CALSCALE:GREGORIAN
METHOD:PUBLISH
X-WR-CALNAME:Świdnicki Ośrodek Kultury
X-ORIGINAL-URL:https://sok.com.pl
X-WR-CALDESC:Wydarzenia na Świdnicki Ośrodek Kultury
BEGIN:VTIMEZONE
TZID:Europe/Warsaw
BEGIN:DAYLIGHT
TZOFFSETFROM:+0100
TZOFFSETTO:+0200
TZNAME:CEST
DTSTART:20230326T010000
END:DAYLIGHT
BEGIN:STANDARD
TZOFFSETFROM:+0200
TZOFFSETTO:+0100
TZNAME:CET
DTSTART:20231029T010000
END:STANDARD
END:VTIMEZONE
BEGIN:VEVENT
DTSTART;TZID=Europe/Warsaw:20230401T110000
DTEND;TZID=Europe/Warsaw:20230401T130000
DTSTAMP:20260422T021334
CREATED:20230331T122733Z
LAST-MODIFIED:20230331T122733Z
UID:33900-1680346800-1680354000@sok.com.pl
SUMMARY:JAJCOWANIE Z JUBILATEM — VIII EDYCJA [brak wolnych miejsc]
DESCRIPTION:Po raz ósmy Zespół Pieśni i Tańca „Jubilat” w imieniu własnym i Świdnickiego Ośrodka Kultury zapraszają do naszego tradycyjnego „Jajcowania”. Galeria Fotografii na świdnickim Rynku zamieni się w barwną i radosną pracownię.
URL:https://sok.com.pl/wydarzenie/jajcowanie-z-jubilatem-viii-edycja-brak-wolnych-miejsc/
LOCATION:Klub Bolko\, pl. Grunwaldzki 11\, Świdnica\, Dolnośląskie\, 58-100\, Polska
CATEGORIES:Warsztaty
ATTACH;FMTTYPE=image/jpeg:https://sok.com.pl/wp-content/uploads/2023/03/Jajcowanie-2023-grafika.jpg
END:VEVENT
END:VCALENDAR