BEGIN:VCALENDAR
VERSION:2.0
PRODID:-//Świdnicki Ośrodek Kultury - ECPv5.5.0.1//NONSGML v1.0//EN
CALSCALE:GREGORIAN
METHOD:PUBLISH
X-WR-CALNAME:Świdnicki Ośrodek Kultury
X-ORIGINAL-URL:https://sok.com.pl
X-WR-CALDESC:Wydarzenia na Świdnicki Ośrodek Kultury
BEGIN:VTIMEZONE
TZID:Europe/Warsaw
BEGIN:DAYLIGHT
TZOFFSETFROM:+0100
TZOFFSETTO:+0200
TZNAME:CEST
DTSTART:20240331T010000
END:DAYLIGHT
BEGIN:STANDARD
TZOFFSETFROM:+0200
TZOFFSETTO:+0100
TZNAME:CET
DTSTART:20241027T010000
END:STANDARD
END:VTIMEZONE
BEGIN:VEVENT
DTSTART;TZID=Europe/Warsaw:20240709T170000
DTEND;TZID=Europe/Warsaw:20240709T220000
DTSTAMP:20260421T064143
CREATED:20240628T123411Z
LAST-MODIFIED:20240628T123411Z
UID:37184-1720544400-1720562400@sok.com.pl
SUMMARY:Ignacy Trzewiczek o planszówkach w Klubie Bolko
DESCRIPTION:SPOTYKAMY SIĘ CO TYDZIEŃ we wtorki\, żeby grać w nowoczesne planszówki. Tym razem będzie inaczej! Zapraszamy na spotkanie z Ignacym Trzewiczkiem\, autorem gier planszowych\, szefem wydawnictwa Portal Games\, podczas którego odbędzie się:\n🔅prelekcja\,\n🔅epickie Q&A\,\n🔅demo nadchodzących premier z Portalu! \nKlub Bolko ŚOK (I piętro / brak windy)\nŚwidnica / pl. Grunwaldzki 11\n17:00 – 22:00\nudział bezpłatny \ngrupa FB do umawiania rozgrywek podczas standardowych\, cyklicznych spotkań: http://www.facebook.com/groups/1426815298074338
URL:https://sok.com.pl/wydarzenie/ignacy-trzewiczek-w-klubie-bolko/
LOCATION:Klub Bolko\, pl. Grunwaldzki 11\, Świdnica\, Dolnośląskie\, 58-100\, Polska
CATEGORIES:Inne
ATTACH;FMTTYPE=image/jpeg:https://sok.com.pl/wp-content/uploads/2024/06/449284013_899777335501385_85987656437456241_n.jpg
ORGANIZER;CN="%C5%9Awidnicki%20O%C5%9Brodek%20Kultury":MAILTO:sok@sok.com.pl
END:VEVENT
END:VCALENDAR