BEGIN:VCALENDAR
VERSION:2.0
PRODID:-//Świdnicki Ośrodek Kultury - ECPv5.5.0.1//NONSGML v1.0//EN
CALSCALE:GREGORIAN
METHOD:PUBLISH
X-WR-CALNAME:Świdnicki Ośrodek Kultury
X-ORIGINAL-URL:https://sok.com.pl
X-WR-CALDESC:Wydarzenia na Świdnicki Ośrodek Kultury
BEGIN:VTIMEZONE
TZID:Europe/Warsaw
BEGIN:DAYLIGHT
TZOFFSETFROM:+0100
TZOFFSETTO:+0200
TZNAME:CEST
DTSTART:20230326T010000
END:DAYLIGHT
BEGIN:STANDARD
TZOFFSETFROM:+0200
TZOFFSETTO:+0100
TZNAME:CET
DTSTART:20231029T010000
END:STANDARD
END:VTIMEZONE
BEGIN:VEVENT
DTSTART;TZID=Europe/Warsaw:20230401T190000
DTEND;TZID=Europe/Warsaw:20230401T210000
DTSTAMP:20260422T032934
CREATED:20221118T123013Z
LAST-MODIFIED:20221118T123013Z
UID:32900-1680375600-1680382800@sok.com.pl
SUMMARY:HRABINA PĄCZEK - RECITAL JOANNY KOŁACZKOWSKIEJ
DESCRIPTION:KUP BILET \nŚwidnicki Ośrodek Kultury zaprasza na recital Joanny Kołaczkowskiej „Hrabina Pączek”. \n01.04.2023 o godz. 19.00\nsala teatralna Świdnickiego Ośrodka Kultury\nbilety 120 zł/parter; 100 zł/balkon \n„Hrabina Pączek” to wyjątkowy recital najpotężniejszego kobiecego głosu polskiej sceny kabaretowej!\nArtystka znana przede wszystkim z kabaretów „Potem” i „Hrabi” tym razem występuje na scenie solo. Podczas recitalu usłyszymy zupełnie nowe piosenki stworzone przy współpracy z wyjątkowymi osobistościami polskiej sceny kabaretowej\, przeplatane zabawnymi historiami z pierwszej ręki.\nOd zawsze na scenie byłam w grupce\, nawet namawiałam lidera kabaretu Potem Władka Sikorę\, żeby wymyślał chórki w moich piosenkach\, bo nie chciałam stać sama na scenie. Wolałam\, żeby ludzie nie skupiali się tylko na mnie. Teraz\, w recitalu „HRABINA PĄCZEK – czyli muzyczny stand-up” buduję opowieść wokół siebie i wokół piosenek\, które trochę mają odciągać uwagę ode mnie. Zobaczymy\, czy to się udaje – mówi Kołaczkowska.\nMuzyki potrzebuję jak powietrza\, jak wiatru\, który przegania… chcę by jego powiew mnie porywał\, unosił na barana\, a potem grzecznie zanosił do domu. Chcę\, by piosenki mną poniewierały i wyrywały mi włosy. Marzeniem moim jest stworzenie takich piosenek\, które będą żyły i od czasu do czasu wyrwą komuś choć jeden włos.\nJoannie Kołaczkowskiej na scenie towarzyszą Piotr Koźbielski oraz kolega z Kabaretu Hrabi – Łukasz „Lopez” Pietsch na instrumentach klawiszowych.
URL:https://sok.com.pl/wydarzenie/hrabina-paczek-recital-joanny-kolaczkowskiej/
LOCATION:Świdnicki Ośrodek Kultury\, Rynek 43\, Świdnica\, Dolnośląskie\, 58-100\, Polska
CATEGORIES:Koncerty
ATTACH;FMTTYPE=image/jpeg:https://sok.com.pl/wp-content/uploads/2022/11/HRABINA-plakat.jpg
END:VEVENT
END:VCALENDAR